BEGIN:VCALENDAR
VERSION:2.0
PRODID:-//Neighbors Nashville - ECPv6.13.2.1//NONSGML v1.0//EN
CALSCALE:GREGORIAN
METHOD:PUBLISH
X-WR-CALNAME:Neighbors Nashville
X-ORIGINAL-URL:https://neighborsnashville.com
X-WR-CALDESC:Events for Neighbors Nashville
REFRESH-INTERVAL;VALUE=DURATION:PT1H
X-Robots-Tag:noindex
X-PUBLISHED-TTL:PT1H
BEGIN:VTIMEZONE
TZID:America/Chicago
BEGIN:DAYLIGHT
TZOFFSETFROM:-0600
TZOFFSETTO:-0500
TZNAME:CDT
DTSTART:20250309T080000
END:DAYLIGHT
BEGIN:STANDARD
TZOFFSETFROM:-0500
TZOFFSETTO:-0600
TZNAME:CST
DTSTART:20251102T070000
END:STANDARD
BEGIN:DAYLIGHT
TZOFFSETFROM:-0600
TZOFFSETTO:-0500
TZNAME:CDT
DTSTART:20260308T080000
END:DAYLIGHT
BEGIN:STANDARD
TZOFFSETFROM:-0500
TZOFFSETTO:-0600
TZNAME:CST
DTSTART:20261101T070000
END:STANDARD
END:VTIMEZONE
BEGIN:VEVENT
DTSTART;TZID=America/Chicago:20251209T190000
DTEND;TZID=America/Chicago:20251209T220000
DTSTAMP:20260420T015718
CREATED:20241015T182945Z
LAST-MODIFIED:20251218T181938Z
UID:10008197-1765306800-1765317600@neighborsnashville.com
SUMMARY:Ballad Bingo (Sylvan P\, Gulch)
DESCRIPTION:Bingo Nights Starting at 7pm
URL:https://neighborsnashville.com/event/bingo-night-germantown-7/2025-12-09/
LOCATION:Neighbors Gulch\, 610 12th Ave. South\, Nashville\, TN\, 37203\, United States
CATEGORIES:Bingo
ATTACH;FMTTYPE=image/jpeg:https://neighborsnashville.com/wp-content/uploads/Trivia-scaled.jpg
END:VEVENT
BEGIN:VEVENT
DTSTART;TZID=America/Chicago:20251210T190000
DTEND;TZID=America/Chicago:20251210T210000
DTSTAMP:20260420T015718
CREATED:20241010T002342Z
LAST-MODIFIED:20251218T183804Z
UID:10000173-1765393200-1765400400@neighborsnashville.com
SUMMARY:Trivia Wednesday (SYLVAN PARK/GULCH)
DESCRIPTION:Trivia starting at 7pm
URL:https://neighborsnashville.com/event/trivia-wednesday-sylvan-park-11/2025-12-10/
LOCATION:Neighbors Sylvan Park\, 4425 Murphy Rd\, Nashville\, TN\, 37209\, United States
CATEGORIES:Trivia
ATTACH;FMTTYPE=image/jpeg:https://neighborsnashville.com/wp-content/uploads/Trivia-scaled.jpg
END:VEVENT
BEGIN:VEVENT
DTSTART;TZID=America/Chicago:20251210T190000
DTEND;TZID=America/Chicago:20251210T220000
DTSTAMP:20260420T015718
CREATED:20241015T180740Z
LAST-MODIFIED:20251105T232302Z
UID:10000693-1765393200-1765404000@neighborsnashville.com
SUMMARY:Wine Down Wednesday (All Locations)
DESCRIPTION:Wine down Wednesday: 1/2 price on all bottles all day. \nStarting at 7pm
URL:https://neighborsnashville.com/event/wine-down-wednesday-fr-gulch-12/2025-12-10/
LOCATION:Neighbors Franklin\, 4031 Aspen Grove Drive\, Suite 162\, Franklin\, TN\, 37067\, United States
CATEGORIES:Wine Down Wednesday
ATTACH;FMTTYPE=image/jpeg:https://neighborsnashville.com/wp-content/uploads/Trivia-scaled.jpg
END:VEVENT
BEGIN:VEVENT
DTSTART;TZID=America/Chicago:20251210T190000
DTEND;TZID=America/Chicago:20251210T220000
DTSTAMP:20260420T015718
CREATED:20241015T183037Z
LAST-MODIFIED:20251218T181728Z
UID:10007883-1765393200-1765404000@neighborsnashville.com
SUMMARY:Ballad Bingo (Germantown\, Franklin\, Boro)
DESCRIPTION:Bingo Nights Starting at 7pm
URL:https://neighborsnashville.com/event/bingo-night-germantown-8/2025-12-10/
LOCATION:Neighbors Franklin\, 4031 Aspen Grove Drive\, Suite 162\, Franklin\, TN\, 37067\, United States
CATEGORIES:Bingo
ATTACH;FMTTYPE=image/jpeg:https://neighborsnashville.com/wp-content/uploads/Trivia-scaled.jpg
END:VEVENT
BEGIN:VEVENT
DTSTART;TZID=America/Chicago:20251212T200000
DTEND;TZID=America/Chicago:20251212T235900
DTSTAMP:20260420T015718
CREATED:20250107T203432Z
LAST-MODIFIED:20251105T233303Z
UID:10001216-1765569600-1765583940@neighborsnashville.com
SUMMARY:Live DJ FRIDAYS (Germantown)
DESCRIPTION:Friday Night DJ LIVE!! \nEvery 2nd & 4th Friday 7-11pm.
URL:https://neighborsnashville.com/event/live-dj-fridays-germantown/2025-12-12/
LOCATION:Neighbors Germantown\, 313 Jefferson Street\, Nashville\, TN\, 37208\, United States
CATEGORIES:Music
ATTACH;FMTTYPE=image/jpeg:https://neighborsnashville.com/wp-content/uploads/Germantown-DJ.jpg
END:VEVENT
BEGIN:VEVENT
DTSTART;VALUE=DATE:20251213
DTEND;VALUE=DATE:20251214
DTSTAMP:20260420T015718
CREATED:20241011T010348Z
LAST-MODIFIED:20251107T210122Z
UID:10007798-1765584000-1765670399@neighborsnashville.com
SUMMARY:FOOTBALL (ALL LOCATIONS)
DESCRIPTION:Make Neighbors your game-day headquarters! We’ve got the sound on\, the drinks cold\, and the best seats for every must-watch football game.
URL:https://neighborsnashville.com/event/football-all-locations-17/2025-12-13/
LOCATION:Neighbors Franklin\, 4031 Aspen Grove Drive\, Suite 162\, Franklin\, TN\, 37067\, United States
CATEGORIES:Football
ATTACH;FMTTYPE=image/jpeg:https://neighborsnashville.com/wp-content/uploads/Football-Crowd-30.jpg
END:VEVENT
BEGIN:VEVENT
DTSTART;VALUE=DATE:20251214
DTEND;VALUE=DATE:20251215
DTSTAMP:20260420T015718
CREATED:20241011T010348Z
LAST-MODIFIED:20251107T210122Z
UID:10007799-1765670400-1765756799@neighborsnashville.com
SUMMARY:FOOTBALL (ALL LOCATIONS)
DESCRIPTION:Make Neighbors your game-day headquarters! We’ve got the sound on\, the drinks cold\, and the best seats for every must-watch football game.
URL:https://neighborsnashville.com/event/football-all-locations-17/2025-12-14/
LOCATION:Neighbors Franklin\, 4031 Aspen Grove Drive\, Suite 162\, Franklin\, TN\, 37067\, United States
CATEGORIES:Football
ATTACH;FMTTYPE=image/jpeg:https://neighborsnashville.com/wp-content/uploads/Football-Crowd-30.jpg
END:VEVENT
BEGIN:VEVENT
DTSTART;VALUE=DATE:20251215
DTEND;VALUE=DATE:20251216
DTSTAMP:20260420T015718
CREATED:20241011T010348Z
LAST-MODIFIED:20251107T210122Z
UID:10007800-1765756800-1765843199@neighborsnashville.com
SUMMARY:FOOTBALL (ALL LOCATIONS)
DESCRIPTION:Make Neighbors your game-day headquarters! We’ve got the sound on\, the drinks cold\, and the best seats for every must-watch football game.
URL:https://neighborsnashville.com/event/football-all-locations-17/2025-12-15/
LOCATION:Neighbors Franklin\, 4031 Aspen Grove Drive\, Suite 162\, Franklin\, TN\, 37067\, United States
CATEGORIES:Football
ATTACH;FMTTYPE=image/jpeg:https://neighborsnashville.com/wp-content/uploads/Football-Crowd-30.jpg
END:VEVENT
BEGIN:VEVENT
DTSTART;TZID=America/Chicago:20251216T190000
DTEND;TZID=America/Chicago:20251216T210000
DTSTAMP:20260420T015718
CREATED:20241010T001758Z
LAST-MODIFIED:20251218T184106Z
UID:10000434-1765911600-1765918800@neighborsnashville.com
SUMMARY:Trivia Tuesday (GT/FR/Boro)
DESCRIPTION:Trivia starting at 7pm
URL:https://neighborsnashville.com/event/trivia-tuesday-gt-fr-gulch-10/2025-12-16/
LOCATION:Neighbors Franklin\, 4031 Aspen Grove Drive\, Suite 162\, Franklin\, TN\, 37067\, United States
CATEGORIES:Trivia
ATTACH;FMTTYPE=image/jpeg:https://neighborsnashville.com/wp-content/uploads/Trivia-scaled.jpg
END:VEVENT
BEGIN:VEVENT
DTSTART;TZID=America/Chicago:20251216T190000
DTEND;TZID=America/Chicago:20251216T220000
DTSTAMP:20260420T015718
CREATED:20241015T182945Z
LAST-MODIFIED:20251218T181938Z
UID:10008198-1765911600-1765922400@neighborsnashville.com
SUMMARY:Ballad Bingo (Sylvan P\, Gulch)
DESCRIPTION:Bingo Nights Starting at 7pm
URL:https://neighborsnashville.com/event/bingo-night-germantown-7/2025-12-16/
LOCATION:Neighbors Gulch\, 610 12th Ave. South\, Nashville\, TN\, 37203\, United States
CATEGORIES:Bingo
ATTACH;FMTTYPE=image/jpeg:https://neighborsnashville.com/wp-content/uploads/Trivia-scaled.jpg
END:VEVENT
BEGIN:VEVENT
DTSTART;TZID=America/Chicago:20251217T190000
DTEND;TZID=America/Chicago:20251217T210000
DTSTAMP:20260420T015718
CREATED:20241010T002342Z
LAST-MODIFIED:20251218T183804Z
UID:10000174-1765998000-1766005200@neighborsnashville.com
SUMMARY:Trivia Wednesday (SYLVAN PARK/GULCH)
DESCRIPTION:Trivia starting at 7pm
URL:https://neighborsnashville.com/event/trivia-wednesday-sylvan-park-11/2025-12-17/
LOCATION:Neighbors Sylvan Park\, 4425 Murphy Rd\, Nashville\, TN\, 37209\, United States
CATEGORIES:Trivia
ATTACH;FMTTYPE=image/jpeg:https://neighborsnashville.com/wp-content/uploads/Trivia-scaled.jpg
END:VEVENT
BEGIN:VEVENT
DTSTART;TZID=America/Chicago:20251217T190000
DTEND;TZID=America/Chicago:20251217T220000
DTSTAMP:20260420T015718
CREATED:20241015T180740Z
LAST-MODIFIED:20251105T232302Z
UID:10000694-1765998000-1766008800@neighborsnashville.com
SUMMARY:Wine Down Wednesday (All Locations)
DESCRIPTION:Wine down Wednesday: 1/2 price on all bottles all day. \nStarting at 7pm
URL:https://neighborsnashville.com/event/wine-down-wednesday-fr-gulch-12/2025-12-17/
LOCATION:Neighbors Franklin\, 4031 Aspen Grove Drive\, Suite 162\, Franklin\, TN\, 37067\, United States
CATEGORIES:Wine Down Wednesday
ATTACH;FMTTYPE=image/jpeg:https://neighborsnashville.com/wp-content/uploads/Trivia-scaled.jpg
END:VEVENT
BEGIN:VEVENT
DTSTART;TZID=America/Chicago:20251217T190000
DTEND;TZID=America/Chicago:20251217T220000
DTSTAMP:20260420T015718
CREATED:20241015T183037Z
LAST-MODIFIED:20251218T181728Z
UID:10007884-1765998000-1766008800@neighborsnashville.com
SUMMARY:Ballad Bingo (Germantown\, Franklin\, Boro)
DESCRIPTION:Bingo Nights Starting at 7pm
URL:https://neighborsnashville.com/event/bingo-night-germantown-8/2025-12-17/
LOCATION:Neighbors Franklin\, 4031 Aspen Grove Drive\, Suite 162\, Franklin\, TN\, 37067\, United States
CATEGORIES:Bingo
ATTACH;FMTTYPE=image/jpeg:https://neighborsnashville.com/wp-content/uploads/Trivia-scaled.jpg
END:VEVENT
BEGIN:VEVENT
DTSTART;TZID=America/Chicago:20251219T200000
DTEND;TZID=America/Chicago:20251219T235900
DTSTAMP:20260420T015718
CREATED:20250107T203820Z
LAST-MODIFIED:20251105T233132Z
UID:10001845-1766174400-1766188740@neighborsnashville.com
SUMMARY:Live DJ FRIDAYS (Gulch)
DESCRIPTION:Friday Night DJ LIVE!! \nEvery 1st & 3rd Friday 7-11pm.
URL:https://neighborsnashville.com/event/live-dj-fridays-gulch-2/2025-12-19/
LOCATION:Neighbors Gulch\, 610 12th Ave. South\, Nashville\, TN\, 37203\, United States
CATEGORIES:Music
ATTACH;FMTTYPE=image/jpeg:https://neighborsnashville.com/wp-content/uploads/FridayMusic-scaled.jpg
END:VEVENT
BEGIN:VEVENT
DTSTART;VALUE=DATE:20251220
DTEND;VALUE=DATE:20251221
DTSTAMP:20260420T015718
CREATED:20241011T010348Z
LAST-MODIFIED:20251107T210122Z
UID:10007801-1766188800-1766275199@neighborsnashville.com
SUMMARY:FOOTBALL (ALL LOCATIONS)
DESCRIPTION:Make Neighbors your game-day headquarters! We’ve got the sound on\, the drinks cold\, and the best seats for every must-watch football game.
URL:https://neighborsnashville.com/event/football-all-locations-17/2025-12-20/
LOCATION:Neighbors Franklin\, 4031 Aspen Grove Drive\, Suite 162\, Franklin\, TN\, 37067\, United States
CATEGORIES:Football
ATTACH;FMTTYPE=image/jpeg:https://neighborsnashville.com/wp-content/uploads/Football-Crowd-30.jpg
END:VEVENT
BEGIN:VEVENT
DTSTART;VALUE=DATE:20251221
DTEND;VALUE=DATE:20251222
DTSTAMP:20260420T015718
CREATED:20241011T010348Z
LAST-MODIFIED:20251107T210122Z
UID:10007802-1766275200-1766361599@neighborsnashville.com
SUMMARY:FOOTBALL (ALL LOCATIONS)
DESCRIPTION:Make Neighbors your game-day headquarters! We’ve got the sound on\, the drinks cold\, and the best seats for every must-watch football game.
URL:https://neighborsnashville.com/event/football-all-locations-17/2025-12-21/
LOCATION:Neighbors Franklin\, 4031 Aspen Grove Drive\, Suite 162\, Franklin\, TN\, 37067\, United States
CATEGORIES:Football
ATTACH;FMTTYPE=image/jpeg:https://neighborsnashville.com/wp-content/uploads/Football-Crowd-30.jpg
END:VEVENT
BEGIN:VEVENT
DTSTART;VALUE=DATE:20251222
DTEND;VALUE=DATE:20251223
DTSTAMP:20260420T015718
CREATED:20241011T010348Z
LAST-MODIFIED:20251107T210122Z
UID:10007803-1766361600-1766447999@neighborsnashville.com
SUMMARY:FOOTBALL (ALL LOCATIONS)
DESCRIPTION:Make Neighbors your game-day headquarters! We’ve got the sound on\, the drinks cold\, and the best seats for every must-watch football game.
URL:https://neighborsnashville.com/event/football-all-locations-17/2025-12-22/
LOCATION:Neighbors Franklin\, 4031 Aspen Grove Drive\, Suite 162\, Franklin\, TN\, 37067\, United States
CATEGORIES:Football
ATTACH;FMTTYPE=image/jpeg:https://neighborsnashville.com/wp-content/uploads/Football-Crowd-30.jpg
END:VEVENT
BEGIN:VEVENT
DTSTART;TZID=America/Chicago:20251223T190000
DTEND;TZID=America/Chicago:20251223T210000
DTSTAMP:20260420T015718
CREATED:20241010T001758Z
LAST-MODIFIED:20251218T184106Z
UID:10000435-1766516400-1766523600@neighborsnashville.com
SUMMARY:Trivia Tuesday (GT/FR/Boro)
DESCRIPTION:Trivia starting at 7pm
URL:https://neighborsnashville.com/event/trivia-tuesday-gt-fr-gulch-10/2025-12-23/
LOCATION:Neighbors Franklin\, 4031 Aspen Grove Drive\, Suite 162\, Franklin\, TN\, 37067\, United States
CATEGORIES:Trivia
ATTACH;FMTTYPE=image/jpeg:https://neighborsnashville.com/wp-content/uploads/Trivia-scaled.jpg
END:VEVENT
BEGIN:VEVENT
DTSTART;TZID=America/Chicago:20251223T190000
DTEND;TZID=America/Chicago:20251223T220000
DTSTAMP:20260420T015718
CREATED:20241015T182945Z
LAST-MODIFIED:20251218T181938Z
UID:10008199-1766516400-1766527200@neighborsnashville.com
SUMMARY:Ballad Bingo (Sylvan P\, Gulch)
DESCRIPTION:Bingo Nights Starting at 7pm
URL:https://neighborsnashville.com/event/bingo-night-germantown-7/2025-12-23/
LOCATION:Neighbors Gulch\, 610 12th Ave. South\, Nashville\, TN\, 37203\, United States
CATEGORIES:Bingo
ATTACH;FMTTYPE=image/jpeg:https://neighborsnashville.com/wp-content/uploads/Trivia-scaled.jpg
END:VEVENT
BEGIN:VEVENT
DTSTART;TZID=America/Chicago:20251224T190000
DTEND;TZID=America/Chicago:20251224T220000
DTSTAMP:20260420T015718
CREATED:20241015T180740Z
LAST-MODIFIED:20251105T232302Z
UID:10000695-1766602800-1766613600@neighborsnashville.com
SUMMARY:Wine Down Wednesday (All Locations)
DESCRIPTION:Wine down Wednesday: 1/2 price on all bottles all day. \nStarting at 7pm
URL:https://neighborsnashville.com/event/wine-down-wednesday-fr-gulch-12/2025-12-24/
LOCATION:Neighbors Franklin\, 4031 Aspen Grove Drive\, Suite 162\, Franklin\, TN\, 37067\, United States
CATEGORIES:Wine Down Wednesday
ATTACH;FMTTYPE=image/jpeg:https://neighborsnashville.com/wp-content/uploads/Trivia-scaled.jpg
END:VEVENT
BEGIN:VEVENT
DTSTART;TZID=America/Chicago:20251226T200000
DTEND;TZID=America/Chicago:20251226T235900
DTSTAMP:20260420T015718
CREATED:20250107T203432Z
LAST-MODIFIED:20251105T233303Z
UID:10001218-1766779200-1766793540@neighborsnashville.com
SUMMARY:Live DJ FRIDAYS (Germantown)
DESCRIPTION:Friday Night DJ LIVE!! \nEvery 2nd & 4th Friday 7-11pm.
URL:https://neighborsnashville.com/event/live-dj-fridays-germantown/2025-12-26/
LOCATION:Neighbors Germantown\, 313 Jefferson Street\, Nashville\, TN\, 37208\, United States
CATEGORIES:Music
ATTACH;FMTTYPE=image/jpeg:https://neighborsnashville.com/wp-content/uploads/Germantown-DJ.jpg
END:VEVENT
BEGIN:VEVENT
DTSTART;VALUE=DATE:20251227
DTEND;VALUE=DATE:20251228
DTSTAMP:20260420T015718
CREATED:20241011T010348Z
LAST-MODIFIED:20251107T210122Z
UID:10007804-1766793600-1766879999@neighborsnashville.com
SUMMARY:FOOTBALL (ALL LOCATIONS)
DESCRIPTION:Make Neighbors your game-day headquarters! We’ve got the sound on\, the drinks cold\, and the best seats for every must-watch football game.
URL:https://neighborsnashville.com/event/football-all-locations-17/2025-12-27/
LOCATION:Neighbors Franklin\, 4031 Aspen Grove Drive\, Suite 162\, Franklin\, TN\, 37067\, United States
CATEGORIES:Football
ATTACH;FMTTYPE=image/jpeg:https://neighborsnashville.com/wp-content/uploads/Football-Crowd-30.jpg
END:VEVENT
BEGIN:VEVENT
DTSTART;VALUE=DATE:20251228
DTEND;VALUE=DATE:20251229
DTSTAMP:20260420T015718
CREATED:20241011T010348Z
LAST-MODIFIED:20251107T210122Z
UID:10007805-1766880000-1766966399@neighborsnashville.com
SUMMARY:FOOTBALL (ALL LOCATIONS)
DESCRIPTION:Make Neighbors your game-day headquarters! We’ve got the sound on\, the drinks cold\, and the best seats for every must-watch football game.
URL:https://neighborsnashville.com/event/football-all-locations-17/2025-12-28/
LOCATION:Neighbors Franklin\, 4031 Aspen Grove Drive\, Suite 162\, Franklin\, TN\, 37067\, United States
CATEGORIES:Football
ATTACH;FMTTYPE=image/jpeg:https://neighborsnashville.com/wp-content/uploads/Football-Crowd-30.jpg
END:VEVENT
BEGIN:VEVENT
DTSTART;VALUE=DATE:20251229
DTEND;VALUE=DATE:20251230
DTSTAMP:20260420T015718
CREATED:20241011T010348Z
LAST-MODIFIED:20251107T210122Z
UID:10007806-1766966400-1767052799@neighborsnashville.com
SUMMARY:FOOTBALL (ALL LOCATIONS)
DESCRIPTION:Make Neighbors your game-day headquarters! We’ve got the sound on\, the drinks cold\, and the best seats for every must-watch football game.
URL:https://neighborsnashville.com/event/football-all-locations-17/2025-12-29/
LOCATION:Neighbors Franklin\, 4031 Aspen Grove Drive\, Suite 162\, Franklin\, TN\, 37067\, United States
CATEGORIES:Football
ATTACH;FMTTYPE=image/jpeg:https://neighborsnashville.com/wp-content/uploads/Football-Crowd-30.jpg
END:VEVENT
BEGIN:VEVENT
DTSTART;TZID=America/Chicago:20251231T190000
DTEND;TZID=America/Chicago:20251231T220000
DTSTAMP:20260420T015718
CREATED:20241015T180740Z
LAST-MODIFIED:20251105T232302Z
UID:10000696-1767207600-1767218400@neighborsnashville.com
SUMMARY:Wine Down Wednesday (All Locations)
DESCRIPTION:Wine down Wednesday: 1/2 price on all bottles all day. \nStarting at 7pm
URL:https://neighborsnashville.com/event/wine-down-wednesday-fr-gulch-12/2025-12-31/
LOCATION:Neighbors Franklin\, 4031 Aspen Grove Drive\, Suite 162\, Franklin\, TN\, 37067\, United States
CATEGORIES:Wine Down Wednesday
ATTACH;FMTTYPE=image/jpeg:https://neighborsnashville.com/wp-content/uploads/Trivia-scaled.jpg
END:VEVENT
BEGIN:VEVENT
DTSTART;TZID=America/Chicago:20260102T200000
DTEND;TZID=America/Chicago:20260102T235900
DTSTAMP:20260420T015718
CREATED:20250107T203820Z
LAST-MODIFIED:20251105T233132Z
UID:10001846-1767384000-1767398340@neighborsnashville.com
SUMMARY:Live DJ FRIDAYS (Gulch)
DESCRIPTION:Friday Night DJ LIVE!! \nEvery 1st & 3rd Friday 7-11pm.
URL:https://neighborsnashville.com/event/live-dj-fridays-gulch-2/2026-01-02/
LOCATION:Neighbors Gulch\, 610 12th Ave. South\, Nashville\, TN\, 37203\, United States
CATEGORIES:Music
ATTACH;FMTTYPE=image/jpeg:https://neighborsnashville.com/wp-content/uploads/FridayMusic-scaled.jpg
END:VEVENT
BEGIN:VEVENT
DTSTART;TZID=America/Chicago:20260106T190000
DTEND;TZID=America/Chicago:20260106T210000
DTSTAMP:20260420T015718
CREATED:20241010T001758Z
LAST-MODIFIED:20251218T184106Z
UID:10000437-1767726000-1767733200@neighborsnashville.com
SUMMARY:Trivia Tuesday (GT/FR/Boro)
DESCRIPTION:Trivia starting at 7pm
URL:https://neighborsnashville.com/event/trivia-tuesday-gt-fr-gulch-10/2026-01-06/
LOCATION:Neighbors Franklin\, 4031 Aspen Grove Drive\, Suite 162\, Franklin\, TN\, 37067\, United States
CATEGORIES:Trivia
ATTACH;FMTTYPE=image/jpeg:https://neighborsnashville.com/wp-content/uploads/Trivia-scaled.jpg
END:VEVENT
BEGIN:VEVENT
DTSTART;TZID=America/Chicago:20260106T190000
DTEND;TZID=America/Chicago:20260106T220000
DTSTAMP:20260420T015718
CREATED:20241015T182945Z
LAST-MODIFIED:20251218T181938Z
UID:10008201-1767726000-1767736800@neighborsnashville.com
SUMMARY:Ballad Bingo (Sylvan P\, Gulch)
DESCRIPTION:Bingo Nights Starting at 7pm
URL:https://neighborsnashville.com/event/bingo-night-germantown-7/2026-01-06/
LOCATION:Neighbors Gulch\, 610 12th Ave. South\, Nashville\, TN\, 37203\, United States
CATEGORIES:Bingo
ATTACH;FMTTYPE=image/jpeg:https://neighborsnashville.com/wp-content/uploads/Trivia-scaled.jpg
END:VEVENT
BEGIN:VEVENT
DTSTART;TZID=America/Chicago:20260107T190000
DTEND;TZID=America/Chicago:20260107T210000
DTSTAMP:20260420T015718
CREATED:20241010T002342Z
LAST-MODIFIED:20251218T183804Z
UID:10000177-1767812400-1767819600@neighborsnashville.com
SUMMARY:Trivia Wednesday (SYLVAN PARK/GULCH)
DESCRIPTION:Trivia starting at 7pm
URL:https://neighborsnashville.com/event/trivia-wednesday-sylvan-park-11/2026-01-07/
LOCATION:Neighbors Sylvan Park\, 4425 Murphy Rd\, Nashville\, TN\, 37209\, United States
CATEGORIES:Trivia
ATTACH;FMTTYPE=image/jpeg:https://neighborsnashville.com/wp-content/uploads/Trivia-scaled.jpg
END:VEVENT
BEGIN:VEVENT
DTSTART;TZID=America/Chicago:20260107T190000
DTEND;TZID=America/Chicago:20260107T220000
DTSTAMP:20260420T015718
CREATED:20241015T180740Z
LAST-MODIFIED:20251105T232302Z
UID:10000697-1767812400-1767823200@neighborsnashville.com
SUMMARY:Wine Down Wednesday (All Locations)
DESCRIPTION:Wine down Wednesday: 1/2 price on all bottles all day. \nStarting at 7pm
URL:https://neighborsnashville.com/event/wine-down-wednesday-fr-gulch-12/2026-01-07/
LOCATION:Neighbors Franklin\, 4031 Aspen Grove Drive\, Suite 162\, Franklin\, TN\, 37067\, United States
CATEGORIES:Wine Down Wednesday
ATTACH;FMTTYPE=image/jpeg:https://neighborsnashville.com/wp-content/uploads/Trivia-scaled.jpg
END:VEVENT
END:VCALENDAR