BEGIN:VCALENDAR
VERSION:2.0
PRODID:-//Neighbors Nashville - ECPv6.13.2.1//NONSGML v1.0//EN
CALSCALE:GREGORIAN
METHOD:PUBLISH
X-WR-CALNAME:Neighbors Nashville
X-ORIGINAL-URL:https://neighborsnashville.com
X-WR-CALDESC:Events for Neighbors Nashville
REFRESH-INTERVAL;VALUE=DURATION:PT1H
X-Robots-Tag:noindex
X-PUBLISHED-TTL:PT1H
BEGIN:VTIMEZONE
TZID:America/Chicago
BEGIN:DAYLIGHT
TZOFFSETFROM:-0600
TZOFFSETTO:-0500
TZNAME:CDT
DTSTART:20250309T080000
END:DAYLIGHT
BEGIN:STANDARD
TZOFFSETFROM:-0500
TZOFFSETTO:-0600
TZNAME:CST
DTSTART:20251102T070000
END:STANDARD
END:VTIMEZONE
BEGIN:VEVENT
DTSTART;TZID=America/Chicago:20251119T190000
DTEND;TZID=America/Chicago:20251119T220000
DTSTAMP:20260419T223652
CREATED:20241015T183037Z
LAST-MODIFIED:20251218T181728Z
UID:10007880-1763578800-1763589600@neighborsnashville.com
SUMMARY:Ballad Bingo (Germantown\, Franklin\, Boro)
DESCRIPTION:Bingo Nights Starting at 7pm
URL:https://neighborsnashville.com/event/bingo-night-germantown-8/2025-11-19/
LOCATION:Neighbors Franklin\, 4031 Aspen Grove Drive\, Suite 162\, Franklin\, TN\, 37067\, United States
CATEGORIES:Bingo
ATTACH;FMTTYPE=image/jpeg:https://neighborsnashville.com/wp-content/uploads/Trivia-scaled.jpg
END:VEVENT
BEGIN:VEVENT
DTSTART;TZID=America/Chicago:20251121T200000
DTEND;TZID=America/Chicago:20251121T235900
DTSTAMP:20260419T223652
CREATED:20250107T203820Z
LAST-MODIFIED:20251105T233132Z
UID:10001843-1763755200-1763769540@neighborsnashville.com
SUMMARY:Live DJ FRIDAYS (Gulch)
DESCRIPTION:Friday Night DJ LIVE!! \nEvery 1st & 3rd Friday 7-11pm.
URL:https://neighborsnashville.com/event/live-dj-fridays-gulch-2/2025-11-21/
LOCATION:Neighbors Gulch\, 610 12th Ave. South\, Nashville\, TN\, 37203\, United States
CATEGORIES:Music
ATTACH;FMTTYPE=image/jpeg:https://neighborsnashville.com/wp-content/uploads/FridayMusic-scaled.jpg
END:VEVENT
BEGIN:VEVENT
DTSTART;VALUE=DATE:20251122
DTEND;VALUE=DATE:20251123
DTSTAMP:20260419T223652
CREATED:20241011T010348Z
LAST-MODIFIED:20251107T210122Z
UID:10007789-1763769600-1763855999@neighborsnashville.com
SUMMARY:FOOTBALL (ALL LOCATIONS)
DESCRIPTION:Make Neighbors your game-day headquarters! We’ve got the sound on\, the drinks cold\, and the best seats for every must-watch football game.
URL:https://neighborsnashville.com/event/football-all-locations-17/2025-11-22/
LOCATION:Neighbors Franklin\, 4031 Aspen Grove Drive\, Suite 162\, Franklin\, TN\, 37067\, United States
CATEGORIES:Football
ATTACH;FMTTYPE=image/jpeg:https://neighborsnashville.com/wp-content/uploads/Football-Crowd-30.jpg
END:VEVENT
BEGIN:VEVENT
DTSTART;VALUE=DATE:20251123
DTEND;VALUE=DATE:20251124
DTSTAMP:20260419T223652
CREATED:20241011T010348Z
LAST-MODIFIED:20251107T210122Z
UID:10007790-1763856000-1763942399@neighborsnashville.com
SUMMARY:FOOTBALL (ALL LOCATIONS)
DESCRIPTION:Make Neighbors your game-day headquarters! We’ve got the sound on\, the drinks cold\, and the best seats for every must-watch football game.
URL:https://neighborsnashville.com/event/football-all-locations-17/2025-11-23/
LOCATION:Neighbors Franklin\, 4031 Aspen Grove Drive\, Suite 162\, Franklin\, TN\, 37067\, United States
CATEGORIES:Football
ATTACH;FMTTYPE=image/jpeg:https://neighborsnashville.com/wp-content/uploads/Football-Crowd-30.jpg
END:VEVENT
BEGIN:VEVENT
DTSTART;VALUE=DATE:20251124
DTEND;VALUE=DATE:20251125
DTSTAMP:20260419T223652
CREATED:20241011T010348Z
LAST-MODIFIED:20251107T210122Z
UID:10007791-1763942400-1764028799@neighborsnashville.com
SUMMARY:FOOTBALL (ALL LOCATIONS)
DESCRIPTION:Make Neighbors your game-day headquarters! We’ve got the sound on\, the drinks cold\, and the best seats for every must-watch football game.
URL:https://neighborsnashville.com/event/football-all-locations-17/2025-11-24/
LOCATION:Neighbors Franklin\, 4031 Aspen Grove Drive\, Suite 162\, Franklin\, TN\, 37067\, United States
CATEGORIES:Football
ATTACH;FMTTYPE=image/jpeg:https://neighborsnashville.com/wp-content/uploads/Football-Crowd-30.jpg
END:VEVENT
BEGIN:VEVENT
DTSTART;TZID=America/Chicago:20251125T190000
DTEND;TZID=America/Chicago:20251125T210000
DTSTAMP:20260419T223652
CREATED:20241010T001758Z
LAST-MODIFIED:20251218T184106Z
UID:10000431-1764097200-1764104400@neighborsnashville.com
SUMMARY:Trivia Tuesday (GT/FR/Boro)
DESCRIPTION:Trivia starting at 7pm
URL:https://neighborsnashville.com/event/trivia-tuesday-gt-fr-gulch-10/2025-11-25/
LOCATION:Neighbors Franklin\, 4031 Aspen Grove Drive\, Suite 162\, Franklin\, TN\, 37067\, United States
CATEGORIES:Trivia
ATTACH;FMTTYPE=image/jpeg:https://neighborsnashville.com/wp-content/uploads/Trivia-scaled.jpg
END:VEVENT
BEGIN:VEVENT
DTSTART;TZID=America/Chicago:20251125T190000
DTEND;TZID=America/Chicago:20251125T220000
DTSTAMP:20260419T223652
CREATED:20241015T182945Z
LAST-MODIFIED:20251218T181938Z
UID:10008195-1764097200-1764108000@neighborsnashville.com
SUMMARY:Ballad Bingo (Sylvan P\, Gulch)
DESCRIPTION:Bingo Nights Starting at 7pm
URL:https://neighborsnashville.com/event/bingo-night-germantown-7/2025-11-25/
LOCATION:Neighbors Gulch\, 610 12th Ave. South\, Nashville\, TN\, 37203\, United States
CATEGORIES:Bingo
ATTACH;FMTTYPE=image/jpeg:https://neighborsnashville.com/wp-content/uploads/Trivia-scaled.jpg
END:VEVENT
BEGIN:VEVENT
DTSTART;TZID=America/Chicago:20251126T190000
DTEND;TZID=America/Chicago:20251126T210000
DTSTAMP:20260419T223652
CREATED:20241010T002342Z
LAST-MODIFIED:20251218T183804Z
UID:10000171-1764183600-1764190800@neighborsnashville.com
SUMMARY:Trivia Wednesday (SYLVAN PARK/GULCH)
DESCRIPTION:Trivia starting at 7pm
URL:https://neighborsnashville.com/event/trivia-wednesday-sylvan-park-11/2025-11-26/
LOCATION:Neighbors Sylvan Park\, 4425 Murphy Rd\, Nashville\, TN\, 37209\, United States
CATEGORIES:Trivia
ATTACH;FMTTYPE=image/jpeg:https://neighborsnashville.com/wp-content/uploads/Trivia-scaled.jpg
END:VEVENT
BEGIN:VEVENT
DTSTART;TZID=America/Chicago:20251126T190000
DTEND;TZID=America/Chicago:20251126T220000
DTSTAMP:20260419T223652
CREATED:20241015T180740Z
LAST-MODIFIED:20251105T232302Z
UID:10000691-1764183600-1764194400@neighborsnashville.com
SUMMARY:Wine Down Wednesday (All Locations)
DESCRIPTION:Wine down Wednesday: 1/2 price on all bottles all day. \nStarting at 7pm
URL:https://neighborsnashville.com/event/wine-down-wednesday-fr-gulch-12/2025-11-26/
LOCATION:Neighbors Franklin\, 4031 Aspen Grove Drive\, Suite 162\, Franklin\, TN\, 37067\, United States
CATEGORIES:Wine Down Wednesday
ATTACH;FMTTYPE=image/jpeg:https://neighborsnashville.com/wp-content/uploads/Trivia-scaled.jpg
END:VEVENT
BEGIN:VEVENT
DTSTART;TZID=America/Chicago:20251126T190000
DTEND;TZID=America/Chicago:20251126T220000
DTSTAMP:20260419T223652
CREATED:20241015T183037Z
LAST-MODIFIED:20251218T181728Z
UID:10007881-1764183600-1764194400@neighborsnashville.com
SUMMARY:Ballad Bingo (Germantown\, Franklin\, Boro)
DESCRIPTION:Bingo Nights Starting at 7pm
URL:https://neighborsnashville.com/event/bingo-night-germantown-8/2025-11-26/
LOCATION:Neighbors Franklin\, 4031 Aspen Grove Drive\, Suite 162\, Franklin\, TN\, 37067\, United States
CATEGORIES:Bingo
ATTACH;FMTTYPE=image/jpeg:https://neighborsnashville.com/wp-content/uploads/Trivia-scaled.jpg
END:VEVENT
BEGIN:VEVENT
DTSTART;TZID=America/Chicago:20251128T200000
DTEND;TZID=America/Chicago:20251128T235900
DTSTAMP:20260419T223652
CREATED:20250107T203432Z
LAST-MODIFIED:20251105T233303Z
UID:10001214-1764360000-1764374340@neighborsnashville.com
SUMMARY:Live DJ FRIDAYS (Germantown)
DESCRIPTION:Friday Night DJ LIVE!! \nEvery 2nd & 4th Friday 7-11pm.
URL:https://neighborsnashville.com/event/live-dj-fridays-germantown/2025-11-28/
LOCATION:Neighbors Germantown\, 313 Jefferson Street\, Nashville\, TN\, 37208\, United States
CATEGORIES:Music
ATTACH;FMTTYPE=image/jpeg:https://neighborsnashville.com/wp-content/uploads/Germantown-DJ.jpg
END:VEVENT
BEGIN:VEVENT
DTSTART;VALUE=DATE:20251129
DTEND;VALUE=DATE:20251130
DTSTAMP:20260419T223652
CREATED:20241011T010348Z
LAST-MODIFIED:20251107T210122Z
UID:10007792-1764374400-1764460799@neighborsnashville.com
SUMMARY:FOOTBALL (ALL LOCATIONS)
DESCRIPTION:Make Neighbors your game-day headquarters! We’ve got the sound on\, the drinks cold\, and the best seats for every must-watch football game.
URL:https://neighborsnashville.com/event/football-all-locations-17/2025-11-29/
LOCATION:Neighbors Franklin\, 4031 Aspen Grove Drive\, Suite 162\, Franklin\, TN\, 37067\, United States
CATEGORIES:Football
ATTACH;FMTTYPE=image/jpeg:https://neighborsnashville.com/wp-content/uploads/Football-Crowd-30.jpg
END:VEVENT
BEGIN:VEVENT
DTSTART;VALUE=DATE:20251130
DTEND;VALUE=DATE:20251201
DTSTAMP:20260419T223652
CREATED:20241011T010348Z
LAST-MODIFIED:20251107T210122Z
UID:10007793-1764460800-1764547199@neighborsnashville.com
SUMMARY:FOOTBALL (ALL LOCATIONS)
DESCRIPTION:Make Neighbors your game-day headquarters! We’ve got the sound on\, the drinks cold\, and the best seats for every must-watch football game.
URL:https://neighborsnashville.com/event/football-all-locations-17/2025-11-30/
LOCATION:Neighbors Franklin\, 4031 Aspen Grove Drive\, Suite 162\, Franklin\, TN\, 37067\, United States
CATEGORIES:Football
ATTACH;FMTTYPE=image/jpeg:https://neighborsnashville.com/wp-content/uploads/Football-Crowd-30.jpg
END:VEVENT
BEGIN:VEVENT
DTSTART;VALUE=DATE:20251201
DTEND;VALUE=DATE:20251202
DTSTAMP:20260419T223652
CREATED:20241011T010348Z
LAST-MODIFIED:20251107T210122Z
UID:10007794-1764547200-1764633599@neighborsnashville.com
SUMMARY:FOOTBALL (ALL LOCATIONS)
DESCRIPTION:Make Neighbors your game-day headquarters! We’ve got the sound on\, the drinks cold\, and the best seats for every must-watch football game.
URL:https://neighborsnashville.com/event/football-all-locations-17/2025-12-01/
LOCATION:Neighbors Franklin\, 4031 Aspen Grove Drive\, Suite 162\, Franklin\, TN\, 37067\, United States
CATEGORIES:Football
ATTACH;FMTTYPE=image/jpeg:https://neighborsnashville.com/wp-content/uploads/Football-Crowd-30.jpg
END:VEVENT
BEGIN:VEVENT
DTSTART;TZID=America/Chicago:20251202T190000
DTEND;TZID=America/Chicago:20251202T210000
DTSTAMP:20260419T223652
CREATED:20241010T001758Z
LAST-MODIFIED:20251218T184106Z
UID:10000432-1764702000-1764709200@neighborsnashville.com
SUMMARY:Trivia Tuesday (GT/FR/Boro)
DESCRIPTION:Trivia starting at 7pm
URL:https://neighborsnashville.com/event/trivia-tuesday-gt-fr-gulch-10/2025-12-02/
LOCATION:Neighbors Franklin\, 4031 Aspen Grove Drive\, Suite 162\, Franklin\, TN\, 37067\, United States
CATEGORIES:Trivia
ATTACH;FMTTYPE=image/jpeg:https://neighborsnashville.com/wp-content/uploads/Trivia-scaled.jpg
END:VEVENT
BEGIN:VEVENT
DTSTART;TZID=America/Chicago:20251202T190000
DTEND;TZID=America/Chicago:20251202T220000
DTSTAMP:20260419T223652
CREATED:20241015T182945Z
LAST-MODIFIED:20251218T181938Z
UID:10008196-1764702000-1764712800@neighborsnashville.com
SUMMARY:Ballad Bingo (Sylvan P\, Gulch)
DESCRIPTION:Bingo Nights Starting at 7pm
URL:https://neighborsnashville.com/event/bingo-night-germantown-7/2025-12-02/
LOCATION:Neighbors Gulch\, 610 12th Ave. South\, Nashville\, TN\, 37203\, United States
CATEGORIES:Bingo
ATTACH;FMTTYPE=image/jpeg:https://neighborsnashville.com/wp-content/uploads/Trivia-scaled.jpg
END:VEVENT
BEGIN:VEVENT
DTSTART;TZID=America/Chicago:20251203T190000
DTEND;TZID=America/Chicago:20251203T210000
DTSTAMP:20260419T223652
CREATED:20241010T002342Z
LAST-MODIFIED:20251218T183804Z
UID:10000172-1764788400-1764795600@neighborsnashville.com
SUMMARY:Trivia Wednesday (SYLVAN PARK/GULCH)
DESCRIPTION:Trivia starting at 7pm
URL:https://neighborsnashville.com/event/trivia-wednesday-sylvan-park-11/2025-12-03/
LOCATION:Neighbors Sylvan Park\, 4425 Murphy Rd\, Nashville\, TN\, 37209\, United States
CATEGORIES:Trivia
ATTACH;FMTTYPE=image/jpeg:https://neighborsnashville.com/wp-content/uploads/Trivia-scaled.jpg
END:VEVENT
BEGIN:VEVENT
DTSTART;TZID=America/Chicago:20251203T190000
DTEND;TZID=America/Chicago:20251203T220000
DTSTAMP:20260419T223652
CREATED:20241015T180740Z
LAST-MODIFIED:20251105T232302Z
UID:10000692-1764788400-1764799200@neighborsnashville.com
SUMMARY:Wine Down Wednesday (All Locations)
DESCRIPTION:Wine down Wednesday: 1/2 price on all bottles all day. \nStarting at 7pm
URL:https://neighborsnashville.com/event/wine-down-wednesday-fr-gulch-12/2025-12-03/
LOCATION:Neighbors Franklin\, 4031 Aspen Grove Drive\, Suite 162\, Franklin\, TN\, 37067\, United States
CATEGORIES:Wine Down Wednesday
ATTACH;FMTTYPE=image/jpeg:https://neighborsnashville.com/wp-content/uploads/Trivia-scaled.jpg
END:VEVENT
BEGIN:VEVENT
DTSTART;TZID=America/Chicago:20251203T190000
DTEND;TZID=America/Chicago:20251203T220000
DTSTAMP:20260419T223652
CREATED:20241015T183037Z
LAST-MODIFIED:20251218T181728Z
UID:10007882-1764788400-1764799200@neighborsnashville.com
SUMMARY:Ballad Bingo (Germantown\, Franklin\, Boro)
DESCRIPTION:Bingo Nights Starting at 7pm
URL:https://neighborsnashville.com/event/bingo-night-germantown-8/2025-12-03/
LOCATION:Neighbors Franklin\, 4031 Aspen Grove Drive\, Suite 162\, Franklin\, TN\, 37067\, United States
CATEGORIES:Bingo
ATTACH;FMTTYPE=image/jpeg:https://neighborsnashville.com/wp-content/uploads/Trivia-scaled.jpg
END:VEVENT
BEGIN:VEVENT
DTSTART;TZID=America/Chicago:20251205T200000
DTEND;TZID=America/Chicago:20251205T235900
DTSTAMP:20260419T223652
CREATED:20250107T203820Z
LAST-MODIFIED:20251105T233132Z
UID:10001844-1764964800-1764979140@neighborsnashville.com
SUMMARY:Live DJ FRIDAYS (Gulch)
DESCRIPTION:Friday Night DJ LIVE!! \nEvery 1st & 3rd Friday 7-11pm.
URL:https://neighborsnashville.com/event/live-dj-fridays-gulch-2/2025-12-05/
LOCATION:Neighbors Gulch\, 610 12th Ave. South\, Nashville\, TN\, 37203\, United States
CATEGORIES:Music
ATTACH;FMTTYPE=image/jpeg:https://neighborsnashville.com/wp-content/uploads/FridayMusic-scaled.jpg
END:VEVENT
BEGIN:VEVENT
DTSTART;VALUE=DATE:20251206
DTEND;VALUE=DATE:20251207
DTSTAMP:20260419T223652
CREATED:20241011T010348Z
LAST-MODIFIED:20251107T210122Z
UID:10007795-1764979200-1765065599@neighborsnashville.com
SUMMARY:FOOTBALL (ALL LOCATIONS)
DESCRIPTION:Make Neighbors your game-day headquarters! We’ve got the sound on\, the drinks cold\, and the best seats for every must-watch football game.
URL:https://neighborsnashville.com/event/football-all-locations-17/2025-12-06/
LOCATION:Neighbors Franklin\, 4031 Aspen Grove Drive\, Suite 162\, Franklin\, TN\, 37067\, United States
CATEGORIES:Football
ATTACH;FMTTYPE=image/jpeg:https://neighborsnashville.com/wp-content/uploads/Football-Crowd-30.jpg
END:VEVENT
BEGIN:VEVENT
DTSTART;VALUE=DATE:20251207
DTEND;VALUE=DATE:20251208
DTSTAMP:20260419T223652
CREATED:20241011T010348Z
LAST-MODIFIED:20251107T210122Z
UID:10007796-1765065600-1765151999@neighborsnashville.com
SUMMARY:FOOTBALL (ALL LOCATIONS)
DESCRIPTION:Make Neighbors your game-day headquarters! We’ve got the sound on\, the drinks cold\, and the best seats for every must-watch football game.
URL:https://neighborsnashville.com/event/football-all-locations-17/2025-12-07/
LOCATION:Neighbors Franklin\, 4031 Aspen Grove Drive\, Suite 162\, Franklin\, TN\, 37067\, United States
CATEGORIES:Football
ATTACH;FMTTYPE=image/jpeg:https://neighborsnashville.com/wp-content/uploads/Football-Crowd-30.jpg
END:VEVENT
BEGIN:VEVENT
DTSTART;VALUE=DATE:20251208
DTEND;VALUE=DATE:20251209
DTSTAMP:20260419T223652
CREATED:20241011T010348Z
LAST-MODIFIED:20251107T210122Z
UID:10007797-1765152000-1765238399@neighborsnashville.com
SUMMARY:FOOTBALL (ALL LOCATIONS)
DESCRIPTION:Make Neighbors your game-day headquarters! We’ve got the sound on\, the drinks cold\, and the best seats for every must-watch football game.
URL:https://neighborsnashville.com/event/football-all-locations-17/2025-12-08/
LOCATION:Neighbors Franklin\, 4031 Aspen Grove Drive\, Suite 162\, Franklin\, TN\, 37067\, United States
CATEGORIES:Football
ATTACH;FMTTYPE=image/jpeg:https://neighborsnashville.com/wp-content/uploads/Football-Crowd-30.jpg
END:VEVENT
BEGIN:VEVENT
DTSTART;TZID=America/Chicago:20251209T190000
DTEND;TZID=America/Chicago:20251209T210000
DTSTAMP:20260419T223652
CREATED:20241010T001758Z
LAST-MODIFIED:20251218T184106Z
UID:10000433-1765306800-1765314000@neighborsnashville.com
SUMMARY:Trivia Tuesday (GT/FR/Boro)
DESCRIPTION:Trivia starting at 7pm
URL:https://neighborsnashville.com/event/trivia-tuesday-gt-fr-gulch-10/2025-12-09/
LOCATION:Neighbors Franklin\, 4031 Aspen Grove Drive\, Suite 162\, Franklin\, TN\, 37067\, United States
CATEGORIES:Trivia
ATTACH;FMTTYPE=image/jpeg:https://neighborsnashville.com/wp-content/uploads/Trivia-scaled.jpg
END:VEVENT
BEGIN:VEVENT
DTSTART;TZID=America/Chicago:20251209T190000
DTEND;TZID=America/Chicago:20251209T220000
DTSTAMP:20260419T223652
CREATED:20241015T182945Z
LAST-MODIFIED:20251218T181938Z
UID:10008197-1765306800-1765317600@neighborsnashville.com
SUMMARY:Ballad Bingo (Sylvan P\, Gulch)
DESCRIPTION:Bingo Nights Starting at 7pm
URL:https://neighborsnashville.com/event/bingo-night-germantown-7/2025-12-09/
LOCATION:Neighbors Gulch\, 610 12th Ave. South\, Nashville\, TN\, 37203\, United States
CATEGORIES:Bingo
ATTACH;FMTTYPE=image/jpeg:https://neighborsnashville.com/wp-content/uploads/Trivia-scaled.jpg
END:VEVENT
BEGIN:VEVENT
DTSTART;TZID=America/Chicago:20251210T190000
DTEND;TZID=America/Chicago:20251210T210000
DTSTAMP:20260419T223652
CREATED:20241010T002342Z
LAST-MODIFIED:20251218T183804Z
UID:10000173-1765393200-1765400400@neighborsnashville.com
SUMMARY:Trivia Wednesday (SYLVAN PARK/GULCH)
DESCRIPTION:Trivia starting at 7pm
URL:https://neighborsnashville.com/event/trivia-wednesday-sylvan-park-11/2025-12-10/
LOCATION:Neighbors Sylvan Park\, 4425 Murphy Rd\, Nashville\, TN\, 37209\, United States
CATEGORIES:Trivia
ATTACH;FMTTYPE=image/jpeg:https://neighborsnashville.com/wp-content/uploads/Trivia-scaled.jpg
END:VEVENT
BEGIN:VEVENT
DTSTART;TZID=America/Chicago:20251210T190000
DTEND;TZID=America/Chicago:20251210T220000
DTSTAMP:20260419T223652
CREATED:20241015T180740Z
LAST-MODIFIED:20251105T232302Z
UID:10000693-1765393200-1765404000@neighborsnashville.com
SUMMARY:Wine Down Wednesday (All Locations)
DESCRIPTION:Wine down Wednesday: 1/2 price on all bottles all day. \nStarting at 7pm
URL:https://neighborsnashville.com/event/wine-down-wednesday-fr-gulch-12/2025-12-10/
LOCATION:Neighbors Franklin\, 4031 Aspen Grove Drive\, Suite 162\, Franklin\, TN\, 37067\, United States
CATEGORIES:Wine Down Wednesday
ATTACH;FMTTYPE=image/jpeg:https://neighborsnashville.com/wp-content/uploads/Trivia-scaled.jpg
END:VEVENT
BEGIN:VEVENT
DTSTART;TZID=America/Chicago:20251210T190000
DTEND;TZID=America/Chicago:20251210T220000
DTSTAMP:20260419T223652
CREATED:20241015T183037Z
LAST-MODIFIED:20251218T181728Z
UID:10007883-1765393200-1765404000@neighborsnashville.com
SUMMARY:Ballad Bingo (Germantown\, Franklin\, Boro)
DESCRIPTION:Bingo Nights Starting at 7pm
URL:https://neighborsnashville.com/event/bingo-night-germantown-8/2025-12-10/
LOCATION:Neighbors Franklin\, 4031 Aspen Grove Drive\, Suite 162\, Franklin\, TN\, 37067\, United States
CATEGORIES:Bingo
ATTACH;FMTTYPE=image/jpeg:https://neighborsnashville.com/wp-content/uploads/Trivia-scaled.jpg
END:VEVENT
BEGIN:VEVENT
DTSTART;TZID=America/Chicago:20251212T200000
DTEND;TZID=America/Chicago:20251212T235900
DTSTAMP:20260419T223652
CREATED:20250107T203432Z
LAST-MODIFIED:20251105T233303Z
UID:10001216-1765569600-1765583940@neighborsnashville.com
SUMMARY:Live DJ FRIDAYS (Germantown)
DESCRIPTION:Friday Night DJ LIVE!! \nEvery 2nd & 4th Friday 7-11pm.
URL:https://neighborsnashville.com/event/live-dj-fridays-germantown/2025-12-12/
LOCATION:Neighbors Germantown\, 313 Jefferson Street\, Nashville\, TN\, 37208\, United States
CATEGORIES:Music
ATTACH;FMTTYPE=image/jpeg:https://neighborsnashville.com/wp-content/uploads/Germantown-DJ.jpg
END:VEVENT
BEGIN:VEVENT
DTSTART;VALUE=DATE:20251213
DTEND;VALUE=DATE:20251214
DTSTAMP:20260419T223652
CREATED:20241011T010348Z
LAST-MODIFIED:20251107T210122Z
UID:10007798-1765584000-1765670399@neighborsnashville.com
SUMMARY:FOOTBALL (ALL LOCATIONS)
DESCRIPTION:Make Neighbors your game-day headquarters! We’ve got the sound on\, the drinks cold\, and the best seats for every must-watch football game.
URL:https://neighborsnashville.com/event/football-all-locations-17/2025-12-13/
LOCATION:Neighbors Franklin\, 4031 Aspen Grove Drive\, Suite 162\, Franklin\, TN\, 37067\, United States
CATEGORIES:Football
ATTACH;FMTTYPE=image/jpeg:https://neighborsnashville.com/wp-content/uploads/Football-Crowd-30.jpg
END:VEVENT
END:VCALENDAR