BEGIN:VCALENDAR
VERSION:2.0
PRODID:-//Neighbors Nashville - ECPv6.13.2.1//NONSGML v1.0//EN
CALSCALE:GREGORIAN
METHOD:PUBLISH
X-WR-CALNAME:Neighbors Nashville
X-ORIGINAL-URL:https://neighborsnashville.com
X-WR-CALDESC:Events for Neighbors Nashville
REFRESH-INTERVAL;VALUE=DURATION:PT1H
X-Robots-Tag:noindex
X-PUBLISHED-TTL:PT1H
BEGIN:VTIMEZONE
TZID:America/Chicago
BEGIN:DAYLIGHT
TZOFFSETFROM:-0600
TZOFFSETTO:-0500
TZNAME:CDT
DTSTART:20250309T080000
END:DAYLIGHT
BEGIN:STANDARD
TZOFFSETFROM:-0500
TZOFFSETTO:-0600
TZNAME:CST
DTSTART:20251102T070000
END:STANDARD
END:VTIMEZONE
BEGIN:VEVENT
DTSTART;TZID=America/Chicago:20250822T200000
DTEND;TZID=America/Chicago:20250822T235900
DTSTAMP:20260419T150835
CREATED:20250107T203432Z
LAST-MODIFIED:20251105T233303Z
UID:10001200-1755892800-1755907140@neighborsnashville.com
SUMMARY:Live DJ FRIDAYS (Germantown)
DESCRIPTION:Friday Night DJ LIVE!! \nEvery 2nd & 4th Friday 7-11pm.
URL:https://neighborsnashville.com/event/live-dj-fridays-germantown/2025-08-22/
LOCATION:Neighbors Germantown\, 313 Jefferson Street\, Nashville\, TN\, 37208\, United States
CATEGORIES:Music
ATTACH;FMTTYPE=image/jpeg:https://neighborsnashville.com/wp-content/uploads/Germantown-DJ.jpg
END:VEVENT
BEGIN:VEVENT
DTSTART;TZID=America/Chicago:20250820T190000
DTEND;TZID=America/Chicago:20250820T220000
DTSTAMP:20260419T150835
CREATED:20241015T183037Z
LAST-MODIFIED:20251218T181728Z
UID:10007867-1755716400-1755727200@neighborsnashville.com
SUMMARY:Ballad Bingo (Germantown\, Franklin\, Boro)
DESCRIPTION:Bingo Nights Starting at 7pm
URL:https://neighborsnashville.com/event/bingo-night-germantown-8/2025-08-20/
LOCATION:Neighbors Franklin\, 4031 Aspen Grove Drive\, Suite 162\, Franklin\, TN\, 37067\, United States
CATEGORIES:Bingo
ATTACH;FMTTYPE=image/jpeg:https://neighborsnashville.com/wp-content/uploads/Trivia-scaled.jpg
END:VEVENT
BEGIN:VEVENT
DTSTART;TZID=America/Chicago:20250820T190000
DTEND;TZID=America/Chicago:20250820T220000
DTSTAMP:20260419T150835
CREATED:20241015T180740Z
LAST-MODIFIED:20251105T232302Z
UID:10000677-1755716400-1755727200@neighborsnashville.com
SUMMARY:Wine Down Wednesday (All Locations)
DESCRIPTION:Wine down Wednesday: 1/2 price on all bottles all day. \nStarting at 7pm
URL:https://neighborsnashville.com/event/wine-down-wednesday-fr-gulch-12/2025-08-20/
LOCATION:Neighbors Franklin\, 4031 Aspen Grove Drive\, Suite 162\, Franklin\, TN\, 37067\, United States
CATEGORIES:Wine Down Wednesday
ATTACH;FMTTYPE=image/jpeg:https://neighborsnashville.com/wp-content/uploads/Trivia-scaled.jpg
END:VEVENT
BEGIN:VEVENT
DTSTART;TZID=America/Chicago:20250820T190000
DTEND;TZID=America/Chicago:20250820T210000
DTSTAMP:20260419T150835
CREATED:20241010T002342Z
LAST-MODIFIED:20251218T183804Z
UID:10000157-1755716400-1755723600@neighborsnashville.com
SUMMARY:Trivia Wednesday (SYLVAN PARK/GULCH)
DESCRIPTION:Trivia starting at 7pm
URL:https://neighborsnashville.com/event/trivia-wednesday-sylvan-park-11/2025-08-20/
LOCATION:Neighbors Sylvan Park\, 4425 Murphy Rd\, Nashville\, TN\, 37209\, United States
CATEGORIES:Trivia
ATTACH;FMTTYPE=image/jpeg:https://neighborsnashville.com/wp-content/uploads/Trivia-scaled.jpg
END:VEVENT
BEGIN:VEVENT
DTSTART;TZID=America/Chicago:20250819T190000
DTEND;TZID=America/Chicago:20250819T220000
DTSTAMP:20260419T150835
CREATED:20241015T182945Z
LAST-MODIFIED:20251218T181938Z
UID:10008181-1755630000-1755640800@neighborsnashville.com
SUMMARY:Ballad Bingo (Sylvan P\, Gulch)
DESCRIPTION:Bingo Nights Starting at 7pm
URL:https://neighborsnashville.com/event/bingo-night-germantown-7/2025-08-19/
LOCATION:Neighbors Gulch\, 610 12th Ave. South\, Nashville\, TN\, 37203\, United States
CATEGORIES:Bingo
ATTACH;FMTTYPE=image/jpeg:https://neighborsnashville.com/wp-content/uploads/Trivia-scaled.jpg
END:VEVENT
BEGIN:VEVENT
DTSTART;TZID=America/Chicago:20250819T190000
DTEND;TZID=America/Chicago:20250819T210000
DTSTAMP:20260419T150835
CREATED:20241010T001758Z
LAST-MODIFIED:20251218T184106Z
UID:10000417-1755630000-1755637200@neighborsnashville.com
SUMMARY:Trivia Tuesday (GT/FR/Boro)
DESCRIPTION:Trivia starting at 7pm
URL:https://neighborsnashville.com/event/trivia-tuesday-gt-fr-gulch-10/2025-08-19/
LOCATION:Neighbors Franklin\, 4031 Aspen Grove Drive\, Suite 162\, Franklin\, TN\, 37067\, United States
CATEGORIES:Trivia
ATTACH;FMTTYPE=image/jpeg:https://neighborsnashville.com/wp-content/uploads/Trivia-scaled.jpg
END:VEVENT
BEGIN:VEVENT
DTSTART;TZID=America/Chicago:20250815T200000
DTEND;TZID=America/Chicago:20250815T235900
DTSTAMP:20260419T150835
CREATED:20250107T203820Z
LAST-MODIFIED:20251105T233132Z
UID:10001836-1755288000-1755302340@neighborsnashville.com
SUMMARY:Live DJ FRIDAYS (Gulch)
DESCRIPTION:Friday Night DJ LIVE!! \nEvery 1st & 3rd Friday 7-11pm.
URL:https://neighborsnashville.com/event/live-dj-fridays-gulch-2/2025-08-15/
LOCATION:Neighbors Gulch\, 610 12th Ave. South\, Nashville\, TN\, 37203\, United States
CATEGORIES:Music
ATTACH;FMTTYPE=image/jpeg:https://neighborsnashville.com/wp-content/uploads/FridayMusic-scaled.jpg
END:VEVENT
BEGIN:VEVENT
DTSTART;TZID=America/Chicago:20250813T190000
DTEND;TZID=America/Chicago:20250813T220000
DTSTAMP:20260419T150835
CREATED:20241015T183037Z
LAST-MODIFIED:20251218T181728Z
UID:10007866-1755111600-1755122400@neighborsnashville.com
SUMMARY:Ballad Bingo (Germantown\, Franklin\, Boro)
DESCRIPTION:Bingo Nights Starting at 7pm
URL:https://neighborsnashville.com/event/bingo-night-germantown-8/2025-08-13/
LOCATION:Neighbors Franklin\, 4031 Aspen Grove Drive\, Suite 162\, Franklin\, TN\, 37067\, United States
CATEGORIES:Bingo
ATTACH;FMTTYPE=image/jpeg:https://neighborsnashville.com/wp-content/uploads/Trivia-scaled.jpg
END:VEVENT
BEGIN:VEVENT
DTSTART;TZID=America/Chicago:20250813T190000
DTEND;TZID=America/Chicago:20250813T220000
DTSTAMP:20260419T150835
CREATED:20241015T180740Z
LAST-MODIFIED:20251105T232302Z
UID:10000676-1755111600-1755122400@neighborsnashville.com
SUMMARY:Wine Down Wednesday (All Locations)
DESCRIPTION:Wine down Wednesday: 1/2 price on all bottles all day. \nStarting at 7pm
URL:https://neighborsnashville.com/event/wine-down-wednesday-fr-gulch-12/2025-08-13/
LOCATION:Neighbors Franklin\, 4031 Aspen Grove Drive\, Suite 162\, Franklin\, TN\, 37067\, United States
CATEGORIES:Wine Down Wednesday
ATTACH;FMTTYPE=image/jpeg:https://neighborsnashville.com/wp-content/uploads/Trivia-scaled.jpg
END:VEVENT
BEGIN:VEVENT
DTSTART;TZID=America/Chicago:20250813T190000
DTEND;TZID=America/Chicago:20250813T210000
DTSTAMP:20260419T150835
CREATED:20241010T002342Z
LAST-MODIFIED:20251218T183804Z
UID:10000156-1755111600-1755118800@neighborsnashville.com
SUMMARY:Trivia Wednesday (SYLVAN PARK/GULCH)
DESCRIPTION:Trivia starting at 7pm
URL:https://neighborsnashville.com/event/trivia-wednesday-sylvan-park-11/2025-08-13/
LOCATION:Neighbors Sylvan Park\, 4425 Murphy Rd\, Nashville\, TN\, 37209\, United States
CATEGORIES:Trivia
ATTACH;FMTTYPE=image/jpeg:https://neighborsnashville.com/wp-content/uploads/Trivia-scaled.jpg
END:VEVENT
BEGIN:VEVENT
DTSTART;TZID=America/Chicago:20250812T190000
DTEND;TZID=America/Chicago:20250812T220000
DTSTAMP:20260419T150836
CREATED:20241015T182945Z
LAST-MODIFIED:20251218T181938Z
UID:10008180-1755025200-1755036000@neighborsnashville.com
SUMMARY:Ballad Bingo (Sylvan P\, Gulch)
DESCRIPTION:Bingo Nights Starting at 7pm
URL:https://neighborsnashville.com/event/bingo-night-germantown-7/2025-08-12/
LOCATION:Neighbors Gulch\, 610 12th Ave. South\, Nashville\, TN\, 37203\, United States
CATEGORIES:Bingo
ATTACH;FMTTYPE=image/jpeg:https://neighborsnashville.com/wp-content/uploads/Trivia-scaled.jpg
END:VEVENT
BEGIN:VEVENT
DTSTART;TZID=America/Chicago:20250812T190000
DTEND;TZID=America/Chicago:20250812T210000
DTSTAMP:20260419T150836
CREATED:20241010T001758Z
LAST-MODIFIED:20251218T184106Z
UID:10000416-1755025200-1755032400@neighborsnashville.com
SUMMARY:Trivia Tuesday (GT/FR/Boro)
DESCRIPTION:Trivia starting at 7pm
URL:https://neighborsnashville.com/event/trivia-tuesday-gt-fr-gulch-10/2025-08-12/
LOCATION:Neighbors Franklin\, 4031 Aspen Grove Drive\, Suite 162\, Franklin\, TN\, 37067\, United States
CATEGORIES:Trivia
ATTACH;FMTTYPE=image/jpeg:https://neighborsnashville.com/wp-content/uploads/Trivia-scaled.jpg
END:VEVENT
BEGIN:VEVENT
DTSTART;TZID=America/Chicago:20250808T200000
DTEND;TZID=America/Chicago:20250808T235900
DTSTAMP:20260419T150836
CREATED:20250107T203432Z
LAST-MODIFIED:20251105T233303Z
UID:10001198-1754683200-1754697540@neighborsnashville.com
SUMMARY:Live DJ FRIDAYS (Germantown)
DESCRIPTION:Friday Night DJ LIVE!! \nEvery 2nd & 4th Friday 7-11pm.
URL:https://neighborsnashville.com/event/live-dj-fridays-germantown/2025-08-08/
LOCATION:Neighbors Germantown\, 313 Jefferson Street\, Nashville\, TN\, 37208\, United States
CATEGORIES:Music
ATTACH;FMTTYPE=image/jpeg:https://neighborsnashville.com/wp-content/uploads/Germantown-DJ.jpg
END:VEVENT
BEGIN:VEVENT
DTSTART;TZID=America/Chicago:20250806T190000
DTEND;TZID=America/Chicago:20250806T220000
DTSTAMP:20260419T150836
CREATED:20241015T183037Z
LAST-MODIFIED:20251218T181728Z
UID:10007865-1754506800-1754517600@neighborsnashville.com
SUMMARY:Ballad Bingo (Germantown\, Franklin\, Boro)
DESCRIPTION:Bingo Nights Starting at 7pm
URL:https://neighborsnashville.com/event/bingo-night-germantown-8/2025-08-06/
LOCATION:Neighbors Franklin\, 4031 Aspen Grove Drive\, Suite 162\, Franklin\, TN\, 37067\, United States
CATEGORIES:Bingo
ATTACH;FMTTYPE=image/jpeg:https://neighborsnashville.com/wp-content/uploads/Trivia-scaled.jpg
END:VEVENT
BEGIN:VEVENT
DTSTART;TZID=America/Chicago:20250806T190000
DTEND;TZID=America/Chicago:20250806T220000
DTSTAMP:20260419T150836
CREATED:20241015T180740Z
LAST-MODIFIED:20251105T232302Z
UID:10000675-1754506800-1754517600@neighborsnashville.com
SUMMARY:Wine Down Wednesday (All Locations)
DESCRIPTION:Wine down Wednesday: 1/2 price on all bottles all day. \nStarting at 7pm
URL:https://neighborsnashville.com/event/wine-down-wednesday-fr-gulch-12/2025-08-06/
LOCATION:Neighbors Franklin\, 4031 Aspen Grove Drive\, Suite 162\, Franklin\, TN\, 37067\, United States
CATEGORIES:Wine Down Wednesday
ATTACH;FMTTYPE=image/jpeg:https://neighborsnashville.com/wp-content/uploads/Trivia-scaled.jpg
END:VEVENT
BEGIN:VEVENT
DTSTART;TZID=America/Chicago:20250806T190000
DTEND;TZID=America/Chicago:20250806T210000
DTSTAMP:20260419T150836
CREATED:20241010T002342Z
LAST-MODIFIED:20251218T183804Z
UID:10000155-1754506800-1754514000@neighborsnashville.com
SUMMARY:Trivia Wednesday (SYLVAN PARK/GULCH)
DESCRIPTION:Trivia starting at 7pm
URL:https://neighborsnashville.com/event/trivia-wednesday-sylvan-park-11/2025-08-06/
LOCATION:Neighbors Sylvan Park\, 4425 Murphy Rd\, Nashville\, TN\, 37209\, United States
CATEGORIES:Trivia
ATTACH;FMTTYPE=image/jpeg:https://neighborsnashville.com/wp-content/uploads/Trivia-scaled.jpg
END:VEVENT
BEGIN:VEVENT
DTSTART;TZID=America/Chicago:20250805T190000
DTEND;TZID=America/Chicago:20250805T220000
DTSTAMP:20260419T150836
CREATED:20241015T182945Z
LAST-MODIFIED:20251218T181938Z
UID:10008179-1754420400-1754431200@neighborsnashville.com
SUMMARY:Ballad Bingo (Sylvan P\, Gulch)
DESCRIPTION:Bingo Nights Starting at 7pm
URL:https://neighborsnashville.com/event/bingo-night-germantown-7/2025-08-05/
LOCATION:Neighbors Gulch\, 610 12th Ave. South\, Nashville\, TN\, 37203\, United States
CATEGORIES:Bingo
ATTACH;FMTTYPE=image/jpeg:https://neighborsnashville.com/wp-content/uploads/Trivia-scaled.jpg
END:VEVENT
BEGIN:VEVENT
DTSTART;TZID=America/Chicago:20250805T190000
DTEND;TZID=America/Chicago:20250805T210000
DTSTAMP:20260419T150836
CREATED:20241010T001758Z
LAST-MODIFIED:20251218T184106Z
UID:10000415-1754420400-1754427600@neighborsnashville.com
SUMMARY:Trivia Tuesday (GT/FR/Boro)
DESCRIPTION:Trivia starting at 7pm
URL:https://neighborsnashville.com/event/trivia-tuesday-gt-fr-gulch-10/2025-08-05/
LOCATION:Neighbors Franklin\, 4031 Aspen Grove Drive\, Suite 162\, Franklin\, TN\, 37067\, United States
CATEGORIES:Trivia
ATTACH;FMTTYPE=image/jpeg:https://neighborsnashville.com/wp-content/uploads/Trivia-scaled.jpg
END:VEVENT
BEGIN:VEVENT
DTSTART;TZID=America/Chicago:20250801T200000
DTEND;TZID=America/Chicago:20250801T235900
DTSTAMP:20260419T150836
CREATED:20250107T203820Z
LAST-MODIFIED:20251105T233132Z
UID:10001835-1754078400-1754092740@neighborsnashville.com
SUMMARY:Live DJ FRIDAYS (Gulch)
DESCRIPTION:Friday Night DJ LIVE!! \nEvery 1st & 3rd Friday 7-11pm.
URL:https://neighborsnashville.com/event/live-dj-fridays-gulch-2/2025-08-01/
LOCATION:Neighbors Gulch\, 610 12th Ave. South\, Nashville\, TN\, 37203\, United States
CATEGORIES:Music
ATTACH;FMTTYPE=image/jpeg:https://neighborsnashville.com/wp-content/uploads/FridayMusic-scaled.jpg
END:VEVENT
BEGIN:VEVENT
DTSTART;TZID=America/Chicago:20250730T190000
DTEND;TZID=America/Chicago:20250730T220000
DTSTAMP:20260419T150836
CREATED:20241015T183037Z
LAST-MODIFIED:20251218T181728Z
UID:10007864-1753902000-1753912800@neighborsnashville.com
SUMMARY:Ballad Bingo (Germantown\, Franklin\, Boro)
DESCRIPTION:Bingo Nights Starting at 7pm
URL:https://neighborsnashville.com/event/bingo-night-germantown-8/2025-07-30/
LOCATION:Neighbors Franklin\, 4031 Aspen Grove Drive\, Suite 162\, Franklin\, TN\, 37067\, United States
CATEGORIES:Bingo
ATTACH;FMTTYPE=image/jpeg:https://neighborsnashville.com/wp-content/uploads/Trivia-scaled.jpg
END:VEVENT
BEGIN:VEVENT
DTSTART;TZID=America/Chicago:20250730T190000
DTEND;TZID=America/Chicago:20250730T220000
DTSTAMP:20260419T150836
CREATED:20241015T180740Z
LAST-MODIFIED:20251105T232302Z
UID:10000674-1753902000-1753912800@neighborsnashville.com
SUMMARY:Wine Down Wednesday (All Locations)
DESCRIPTION:Wine down Wednesday: 1/2 price on all bottles all day. \nStarting at 7pm
URL:https://neighborsnashville.com/event/wine-down-wednesday-fr-gulch-12/2025-07-30/
LOCATION:Neighbors Franklin\, 4031 Aspen Grove Drive\, Suite 162\, Franklin\, TN\, 37067\, United States
CATEGORIES:Wine Down Wednesday
ATTACH;FMTTYPE=image/jpeg:https://neighborsnashville.com/wp-content/uploads/Trivia-scaled.jpg
END:VEVENT
BEGIN:VEVENT
DTSTART;TZID=America/Chicago:20250730T190000
DTEND;TZID=America/Chicago:20250730T210000
DTSTAMP:20260419T150836
CREATED:20241010T002342Z
LAST-MODIFIED:20251218T183804Z
UID:10000154-1753902000-1753909200@neighborsnashville.com
SUMMARY:Trivia Wednesday (SYLVAN PARK/GULCH)
DESCRIPTION:Trivia starting at 7pm
URL:https://neighborsnashville.com/event/trivia-wednesday-sylvan-park-11/2025-07-30/
LOCATION:Neighbors Sylvan Park\, 4425 Murphy Rd\, Nashville\, TN\, 37209\, United States
CATEGORIES:Trivia
ATTACH;FMTTYPE=image/jpeg:https://neighborsnashville.com/wp-content/uploads/Trivia-scaled.jpg
END:VEVENT
BEGIN:VEVENT
DTSTART;TZID=America/Chicago:20250729T190000
DTEND;TZID=America/Chicago:20250729T220000
DTSTAMP:20260419T150836
CREATED:20241015T182945Z
LAST-MODIFIED:20251218T181938Z
UID:10008178-1753815600-1753826400@neighborsnashville.com
SUMMARY:Ballad Bingo (Sylvan P\, Gulch)
DESCRIPTION:Bingo Nights Starting at 7pm
URL:https://neighborsnashville.com/event/bingo-night-germantown-7/2025-07-29/
LOCATION:Neighbors Gulch\, 610 12th Ave. South\, Nashville\, TN\, 37203\, United States
CATEGORIES:Bingo
ATTACH;FMTTYPE=image/jpeg:https://neighborsnashville.com/wp-content/uploads/Trivia-scaled.jpg
END:VEVENT
BEGIN:VEVENT
DTSTART;TZID=America/Chicago:20250729T190000
DTEND;TZID=America/Chicago:20250729T210000
DTSTAMP:20260419T150836
CREATED:20241010T001758Z
LAST-MODIFIED:20251218T184106Z
UID:10000414-1753815600-1753822800@neighborsnashville.com
SUMMARY:Trivia Tuesday (GT/FR/Boro)
DESCRIPTION:Trivia starting at 7pm
URL:https://neighborsnashville.com/event/trivia-tuesday-gt-fr-gulch-10/2025-07-29/
LOCATION:Neighbors Franklin\, 4031 Aspen Grove Drive\, Suite 162\, Franklin\, TN\, 37067\, United States
CATEGORIES:Trivia
ATTACH;FMTTYPE=image/jpeg:https://neighborsnashville.com/wp-content/uploads/Trivia-scaled.jpg
END:VEVENT
BEGIN:VEVENT
DTSTART;TZID=America/Chicago:20250725T200000
DTEND;TZID=America/Chicago:20250725T235900
DTSTAMP:20260419T150836
CREATED:20250107T203432Z
LAST-MODIFIED:20251105T233303Z
UID:10001196-1753473600-1753487940@neighborsnashville.com
SUMMARY:Live DJ FRIDAYS (Germantown)
DESCRIPTION:Friday Night DJ LIVE!! \nEvery 2nd & 4th Friday 7-11pm.
URL:https://neighborsnashville.com/event/live-dj-fridays-germantown/2025-07-25/
LOCATION:Neighbors Germantown\, 313 Jefferson Street\, Nashville\, TN\, 37208\, United States
CATEGORIES:Music
ATTACH;FMTTYPE=image/jpeg:https://neighborsnashville.com/wp-content/uploads/Germantown-DJ.jpg
END:VEVENT
BEGIN:VEVENT
DTSTART;TZID=America/Chicago:20250723T190000
DTEND;TZID=America/Chicago:20250723T220000
DTSTAMP:20260419T150836
CREATED:20241015T183037Z
LAST-MODIFIED:20251218T181728Z
UID:10007863-1753297200-1753308000@neighborsnashville.com
SUMMARY:Ballad Bingo (Germantown\, Franklin\, Boro)
DESCRIPTION:Bingo Nights Starting at 7pm
URL:https://neighborsnashville.com/event/bingo-night-germantown-8/2025-07-23/
LOCATION:Neighbors Franklin\, 4031 Aspen Grove Drive\, Suite 162\, Franklin\, TN\, 37067\, United States
CATEGORIES:Bingo
ATTACH;FMTTYPE=image/jpeg:https://neighborsnashville.com/wp-content/uploads/Trivia-scaled.jpg
END:VEVENT
BEGIN:VEVENT
DTSTART;TZID=America/Chicago:20250723T190000
DTEND;TZID=America/Chicago:20250723T220000
DTSTAMP:20260419T150836
CREATED:20241015T180740Z
LAST-MODIFIED:20251105T232302Z
UID:10000673-1753297200-1753308000@neighborsnashville.com
SUMMARY:Wine Down Wednesday (All Locations)
DESCRIPTION:Wine down Wednesday: 1/2 price on all bottles all day. \nStarting at 7pm
URL:https://neighborsnashville.com/event/wine-down-wednesday-fr-gulch-12/2025-07-23/
LOCATION:Neighbors Franklin\, 4031 Aspen Grove Drive\, Suite 162\, Franklin\, TN\, 37067\, United States
CATEGORIES:Wine Down Wednesday
ATTACH;FMTTYPE=image/jpeg:https://neighborsnashville.com/wp-content/uploads/Trivia-scaled.jpg
END:VEVENT
BEGIN:VEVENT
DTSTART;TZID=America/Chicago:20250723T190000
DTEND;TZID=America/Chicago:20250723T210000
DTSTAMP:20260419T150836
CREATED:20241010T002342Z
LAST-MODIFIED:20251218T183804Z
UID:10000153-1753297200-1753304400@neighborsnashville.com
SUMMARY:Trivia Wednesday (SYLVAN PARK/GULCH)
DESCRIPTION:Trivia starting at 7pm
URL:https://neighborsnashville.com/event/trivia-wednesday-sylvan-park-11/2025-07-23/
LOCATION:Neighbors Sylvan Park\, 4425 Murphy Rd\, Nashville\, TN\, 37209\, United States
CATEGORIES:Trivia
ATTACH;FMTTYPE=image/jpeg:https://neighborsnashville.com/wp-content/uploads/Trivia-scaled.jpg
END:VEVENT
BEGIN:VEVENT
DTSTART;TZID=America/Chicago:20250722T190000
DTEND;TZID=America/Chicago:20250722T220000
DTSTAMP:20260419T150836
CREATED:20241015T182945Z
LAST-MODIFIED:20251218T181938Z
UID:10008177-1753210800-1753221600@neighborsnashville.com
SUMMARY:Ballad Bingo (Sylvan P\, Gulch)
DESCRIPTION:Bingo Nights Starting at 7pm
URL:https://neighborsnashville.com/event/bingo-night-germantown-7/2025-07-22/
LOCATION:Neighbors Gulch\, 610 12th Ave. South\, Nashville\, TN\, 37203\, United States
CATEGORIES:Bingo
ATTACH;FMTTYPE=image/jpeg:https://neighborsnashville.com/wp-content/uploads/Trivia-scaled.jpg
END:VEVENT
BEGIN:VEVENT
DTSTART;TZID=America/Chicago:20250722T190000
DTEND;TZID=America/Chicago:20250722T210000
DTSTAMP:20260419T150836
CREATED:20241010T001758Z
LAST-MODIFIED:20251218T184106Z
UID:10000413-1753210800-1753218000@neighborsnashville.com
SUMMARY:Trivia Tuesday (GT/FR/Boro)
DESCRIPTION:Trivia starting at 7pm
URL:https://neighborsnashville.com/event/trivia-tuesday-gt-fr-gulch-10/2025-07-22/
LOCATION:Neighbors Franklin\, 4031 Aspen Grove Drive\, Suite 162\, Franklin\, TN\, 37067\, United States
CATEGORIES:Trivia
ATTACH;FMTTYPE=image/jpeg:https://neighborsnashville.com/wp-content/uploads/Trivia-scaled.jpg
END:VEVENT
END:VCALENDAR