BEGIN:VCALENDAR
VERSION:2.0
PRODID:-//Neighbors Nashville - ECPv6.13.2.1//NONSGML v1.0//EN
CALSCALE:GREGORIAN
METHOD:PUBLISH
X-WR-CALNAME:Neighbors Nashville
X-ORIGINAL-URL:https://neighborsnashville.com
X-WR-CALDESC:Events for Neighbors Nashville
REFRESH-INTERVAL;VALUE=DURATION:PT1H
X-Robots-Tag:noindex
X-PUBLISHED-TTL:PT1H
BEGIN:VTIMEZONE
TZID:America/Chicago
BEGIN:DAYLIGHT
TZOFFSETFROM:-0600
TZOFFSETTO:-0500
TZNAME:CDT
DTSTART:20250309T080000
END:DAYLIGHT
BEGIN:STANDARD
TZOFFSETFROM:-0500
TZOFFSETTO:-0600
TZNAME:CST
DTSTART:20251102T070000
END:STANDARD
END:VTIMEZONE
BEGIN:VEVENT
DTSTART;TZID=America/Chicago:20250909T190000
DTEND;TZID=America/Chicago:20250909T210000
DTSTAMP:20260419T131405
CREATED:20241010T001758Z
LAST-MODIFIED:20251218T184106Z
UID:10000420-1757444400-1757451600@neighborsnashville.com
SUMMARY:Trivia Tuesday (GT/FR/Boro)
DESCRIPTION:Trivia starting at 7pm
URL:https://neighborsnashville.com/event/trivia-tuesday-gt-fr-gulch-10/2025-09-09/
LOCATION:Neighbors Franklin\, 4031 Aspen Grove Drive\, Suite 162\, Franklin\, TN\, 37067\, United States
CATEGORIES:Trivia
ATTACH;FMTTYPE=image/jpeg:https://neighborsnashville.com/wp-content/uploads/Trivia-scaled.jpg
END:VEVENT
BEGIN:VEVENT
DTSTART;TZID=America/Chicago:20250909T190000
DTEND;TZID=America/Chicago:20250909T220000
DTSTAMP:20260419T131405
CREATED:20241015T182945Z
LAST-MODIFIED:20251218T181938Z
UID:10008184-1757444400-1757455200@neighborsnashville.com
SUMMARY:Ballad Bingo (Sylvan P\, Gulch)
DESCRIPTION:Bingo Nights Starting at 7pm
URL:https://neighborsnashville.com/event/bingo-night-germantown-7/2025-09-09/
LOCATION:Neighbors Gulch\, 610 12th Ave. South\, Nashville\, TN\, 37203\, United States
CATEGORIES:Bingo
ATTACH;FMTTYPE=image/jpeg:https://neighborsnashville.com/wp-content/uploads/Trivia-scaled.jpg
END:VEVENT
BEGIN:VEVENT
DTSTART;TZID=America/Chicago:20250910T190000
DTEND;TZID=America/Chicago:20250910T210000
DTSTAMP:20260419T131405
CREATED:20241010T002342Z
LAST-MODIFIED:20251218T183804Z
UID:10000160-1757530800-1757538000@neighborsnashville.com
SUMMARY:Trivia Wednesday (SYLVAN PARK/GULCH)
DESCRIPTION:Trivia starting at 7pm
URL:https://neighborsnashville.com/event/trivia-wednesday-sylvan-park-11/2025-09-10/
LOCATION:Neighbors Sylvan Park\, 4425 Murphy Rd\, Nashville\, TN\, 37209\, United States
CATEGORIES:Trivia
ATTACH;FMTTYPE=image/jpeg:https://neighborsnashville.com/wp-content/uploads/Trivia-scaled.jpg
END:VEVENT
BEGIN:VEVENT
DTSTART;TZID=America/Chicago:20250910T190000
DTEND;TZID=America/Chicago:20250910T220000
DTSTAMP:20260419T131405
CREATED:20241015T180740Z
LAST-MODIFIED:20251105T232302Z
UID:10000680-1757530800-1757541600@neighborsnashville.com
SUMMARY:Wine Down Wednesday (All Locations)
DESCRIPTION:Wine down Wednesday: 1/2 price on all bottles all day. \nStarting at 7pm
URL:https://neighborsnashville.com/event/wine-down-wednesday-fr-gulch-12/2025-09-10/
LOCATION:Neighbors Franklin\, 4031 Aspen Grove Drive\, Suite 162\, Franklin\, TN\, 37067\, United States
CATEGORIES:Wine Down Wednesday
ATTACH;FMTTYPE=image/jpeg:https://neighborsnashville.com/wp-content/uploads/Trivia-scaled.jpg
END:VEVENT
BEGIN:VEVENT
DTSTART;TZID=America/Chicago:20250910T190000
DTEND;TZID=America/Chicago:20250910T220000
DTSTAMP:20260419T131405
CREATED:20241015T183037Z
LAST-MODIFIED:20251218T181728Z
UID:10007870-1757530800-1757541600@neighborsnashville.com
SUMMARY:Ballad Bingo (Germantown\, Franklin\, Boro)
DESCRIPTION:Bingo Nights Starting at 7pm
URL:https://neighborsnashville.com/event/bingo-night-germantown-8/2025-09-10/
LOCATION:Neighbors Franklin\, 4031 Aspen Grove Drive\, Suite 162\, Franklin\, TN\, 37067\, United States
CATEGORIES:Bingo
ATTACH;FMTTYPE=image/jpeg:https://neighborsnashville.com/wp-content/uploads/Trivia-scaled.jpg
END:VEVENT
BEGIN:VEVENT
DTSTART;TZID=America/Chicago:20250912T200000
DTEND;TZID=America/Chicago:20250912T235900
DTSTAMP:20260419T131405
CREATED:20250107T203820Z
LAST-MODIFIED:20251105T233132Z
UID:10001838-1757707200-1757721540@neighborsnashville.com
SUMMARY:Live DJ FRIDAYS (Gulch)
DESCRIPTION:Friday Night DJ LIVE!! \nEvery 1st & 3rd Friday 7-11pm.
URL:https://neighborsnashville.com/event/live-dj-fridays-gulch-2/2025-09-12/
LOCATION:Neighbors Gulch\, 610 12th Ave. South\, Nashville\, TN\, 37203\, United States
CATEGORIES:Music
ATTACH;FMTTYPE=image/jpeg:https://neighborsnashville.com/wp-content/uploads/FridayMusic-scaled.jpg
END:VEVENT
BEGIN:VEVENT
DTSTART;TZID=America/Chicago:20250916T190000
DTEND;TZID=America/Chicago:20250916T210000
DTSTAMP:20260419T131405
CREATED:20241010T001758Z
LAST-MODIFIED:20251218T184106Z
UID:10000421-1758049200-1758056400@neighborsnashville.com
SUMMARY:Trivia Tuesday (GT/FR/Boro)
DESCRIPTION:Trivia starting at 7pm
URL:https://neighborsnashville.com/event/trivia-tuesday-gt-fr-gulch-10/2025-09-16/
LOCATION:Neighbors Franklin\, 4031 Aspen Grove Drive\, Suite 162\, Franklin\, TN\, 37067\, United States
CATEGORIES:Trivia
ATTACH;FMTTYPE=image/jpeg:https://neighborsnashville.com/wp-content/uploads/Trivia-scaled.jpg
END:VEVENT
BEGIN:VEVENT
DTSTART;TZID=America/Chicago:20250916T190000
DTEND;TZID=America/Chicago:20250916T220000
DTSTAMP:20260419T131405
CREATED:20241015T182945Z
LAST-MODIFIED:20251218T181938Z
UID:10008185-1758049200-1758060000@neighborsnashville.com
SUMMARY:Ballad Bingo (Sylvan P\, Gulch)
DESCRIPTION:Bingo Nights Starting at 7pm
URL:https://neighborsnashville.com/event/bingo-night-germantown-7/2025-09-16/
LOCATION:Neighbors Gulch\, 610 12th Ave. South\, Nashville\, TN\, 37203\, United States
CATEGORIES:Bingo
ATTACH;FMTTYPE=image/jpeg:https://neighborsnashville.com/wp-content/uploads/Trivia-scaled.jpg
END:VEVENT
BEGIN:VEVENT
DTSTART;TZID=America/Chicago:20250917T190000
DTEND;TZID=America/Chicago:20250917T210000
DTSTAMP:20260419T131405
CREATED:20241010T002342Z
LAST-MODIFIED:20251218T183804Z
UID:10000161-1758135600-1758142800@neighborsnashville.com
SUMMARY:Trivia Wednesday (SYLVAN PARK/GULCH)
DESCRIPTION:Trivia starting at 7pm
URL:https://neighborsnashville.com/event/trivia-wednesday-sylvan-park-11/2025-09-17/
LOCATION:Neighbors Sylvan Park\, 4425 Murphy Rd\, Nashville\, TN\, 37209\, United States
CATEGORIES:Trivia
ATTACH;FMTTYPE=image/jpeg:https://neighborsnashville.com/wp-content/uploads/Trivia-scaled.jpg
END:VEVENT
BEGIN:VEVENT
DTSTART;TZID=America/Chicago:20250917T190000
DTEND;TZID=America/Chicago:20250917T220000
DTSTAMP:20260419T131405
CREATED:20241015T180740Z
LAST-MODIFIED:20251105T232302Z
UID:10000681-1758135600-1758146400@neighborsnashville.com
SUMMARY:Wine Down Wednesday (All Locations)
DESCRIPTION:Wine down Wednesday: 1/2 price on all bottles all day. \nStarting at 7pm
URL:https://neighborsnashville.com/event/wine-down-wednesday-fr-gulch-12/2025-09-17/
LOCATION:Neighbors Franklin\, 4031 Aspen Grove Drive\, Suite 162\, Franklin\, TN\, 37067\, United States
CATEGORIES:Wine Down Wednesday
ATTACH;FMTTYPE=image/jpeg:https://neighborsnashville.com/wp-content/uploads/Trivia-scaled.jpg
END:VEVENT
BEGIN:VEVENT
DTSTART;TZID=America/Chicago:20250917T190000
DTEND;TZID=America/Chicago:20250917T220000
DTSTAMP:20260419T131405
CREATED:20241015T183037Z
LAST-MODIFIED:20251218T181728Z
UID:10007871-1758135600-1758146400@neighborsnashville.com
SUMMARY:Ballad Bingo (Germantown\, Franklin\, Boro)
DESCRIPTION:Bingo Nights Starting at 7pm
URL:https://neighborsnashville.com/event/bingo-night-germantown-8/2025-09-17/
LOCATION:Neighbors Franklin\, 4031 Aspen Grove Drive\, Suite 162\, Franklin\, TN\, 37067\, United States
CATEGORIES:Bingo
ATTACH;FMTTYPE=image/jpeg:https://neighborsnashville.com/wp-content/uploads/Trivia-scaled.jpg
END:VEVENT
BEGIN:VEVENT
DTSTART;TZID=America/Chicago:20250919T200000
DTEND;TZID=America/Chicago:20250919T235900
DTSTAMP:20260419T131405
CREATED:20250107T203432Z
LAST-MODIFIED:20251105T233303Z
UID:10001204-1758312000-1758326340@neighborsnashville.com
SUMMARY:Live DJ FRIDAYS (Germantown)
DESCRIPTION:Friday Night DJ LIVE!! \nEvery 2nd & 4th Friday 7-11pm.
URL:https://neighborsnashville.com/event/live-dj-fridays-germantown/2025-09-19/
LOCATION:Neighbors Germantown\, 313 Jefferson Street\, Nashville\, TN\, 37208\, United States
CATEGORIES:Music
ATTACH;FMTTYPE=image/jpeg:https://neighborsnashville.com/wp-content/uploads/Germantown-DJ.jpg
END:VEVENT
BEGIN:VEVENT
DTSTART;TZID=America/Chicago:20250923T190000
DTEND;TZID=America/Chicago:20250923T210000
DTSTAMP:20260419T131405
CREATED:20241010T001758Z
LAST-MODIFIED:20251218T184106Z
UID:10000422-1758654000-1758661200@neighborsnashville.com
SUMMARY:Trivia Tuesday (GT/FR/Boro)
DESCRIPTION:Trivia starting at 7pm
URL:https://neighborsnashville.com/event/trivia-tuesday-gt-fr-gulch-10/2025-09-23/
LOCATION:Neighbors Franklin\, 4031 Aspen Grove Drive\, Suite 162\, Franklin\, TN\, 37067\, United States
CATEGORIES:Trivia
ATTACH;FMTTYPE=image/jpeg:https://neighborsnashville.com/wp-content/uploads/Trivia-scaled.jpg
END:VEVENT
BEGIN:VEVENT
DTSTART;TZID=America/Chicago:20250923T190000
DTEND;TZID=America/Chicago:20250923T220000
DTSTAMP:20260419T131405
CREATED:20241015T182945Z
LAST-MODIFIED:20251218T181938Z
UID:10008186-1758654000-1758664800@neighborsnashville.com
SUMMARY:Ballad Bingo (Sylvan P\, Gulch)
DESCRIPTION:Bingo Nights Starting at 7pm
URL:https://neighborsnashville.com/event/bingo-night-germantown-7/2025-09-23/
LOCATION:Neighbors Gulch\, 610 12th Ave. South\, Nashville\, TN\, 37203\, United States
CATEGORIES:Bingo
ATTACH;FMTTYPE=image/jpeg:https://neighborsnashville.com/wp-content/uploads/Trivia-scaled.jpg
END:VEVENT
BEGIN:VEVENT
DTSTART;TZID=America/Chicago:20250924T190000
DTEND;TZID=America/Chicago:20250924T210000
DTSTAMP:20260419T131405
CREATED:20241010T002342Z
LAST-MODIFIED:20251218T183804Z
UID:10000162-1758740400-1758747600@neighborsnashville.com
SUMMARY:Trivia Wednesday (SYLVAN PARK/GULCH)
DESCRIPTION:Trivia starting at 7pm
URL:https://neighborsnashville.com/event/trivia-wednesday-sylvan-park-11/2025-09-24/
LOCATION:Neighbors Sylvan Park\, 4425 Murphy Rd\, Nashville\, TN\, 37209\, United States
CATEGORIES:Trivia
ATTACH;FMTTYPE=image/jpeg:https://neighborsnashville.com/wp-content/uploads/Trivia-scaled.jpg
END:VEVENT
BEGIN:VEVENT
DTSTART;TZID=America/Chicago:20250924T190000
DTEND;TZID=America/Chicago:20250924T220000
DTSTAMP:20260419T131405
CREATED:20241015T180740Z
LAST-MODIFIED:20251105T232302Z
UID:10000682-1758740400-1758751200@neighborsnashville.com
SUMMARY:Wine Down Wednesday (All Locations)
DESCRIPTION:Wine down Wednesday: 1/2 price on all bottles all day. \nStarting at 7pm
URL:https://neighborsnashville.com/event/wine-down-wednesday-fr-gulch-12/2025-09-24/
LOCATION:Neighbors Franklin\, 4031 Aspen Grove Drive\, Suite 162\, Franklin\, TN\, 37067\, United States
CATEGORIES:Wine Down Wednesday
ATTACH;FMTTYPE=image/jpeg:https://neighborsnashville.com/wp-content/uploads/Trivia-scaled.jpg
END:VEVENT
BEGIN:VEVENT
DTSTART;TZID=America/Chicago:20250924T190000
DTEND;TZID=America/Chicago:20250924T220000
DTSTAMP:20260419T131405
CREATED:20241015T183037Z
LAST-MODIFIED:20251218T181728Z
UID:10007872-1758740400-1758751200@neighborsnashville.com
SUMMARY:Ballad Bingo (Germantown\, Franklin\, Boro)
DESCRIPTION:Bingo Nights Starting at 7pm
URL:https://neighborsnashville.com/event/bingo-night-germantown-8/2025-09-24/
LOCATION:Neighbors Franklin\, 4031 Aspen Grove Drive\, Suite 162\, Franklin\, TN\, 37067\, United States
CATEGORIES:Bingo
ATTACH;FMTTYPE=image/jpeg:https://neighborsnashville.com/wp-content/uploads/Trivia-scaled.jpg
END:VEVENT
BEGIN:VEVENT
DTSTART;TZID=America/Chicago:20250926T200000
DTEND;TZID=America/Chicago:20250926T235900
DTSTAMP:20260419T131405
CREATED:20250107T203820Z
LAST-MODIFIED:20251105T233132Z
UID:10001839-1758916800-1758931140@neighborsnashville.com
SUMMARY:Live DJ FRIDAYS (Gulch)
DESCRIPTION:Friday Night DJ LIVE!! \nEvery 1st & 3rd Friday 7-11pm.
URL:https://neighborsnashville.com/event/live-dj-fridays-gulch-2/2025-09-26/
LOCATION:Neighbors Gulch\, 610 12th Ave. South\, Nashville\, TN\, 37203\, United States
CATEGORIES:Music
ATTACH;FMTTYPE=image/jpeg:https://neighborsnashville.com/wp-content/uploads/FridayMusic-scaled.jpg
END:VEVENT
BEGIN:VEVENT
DTSTART;TZID=America/Chicago:20250930T190000
DTEND;TZID=America/Chicago:20250930T210000
DTSTAMP:20260419T131405
CREATED:20241010T001758Z
LAST-MODIFIED:20251218T184106Z
UID:10000423-1759258800-1759266000@neighborsnashville.com
SUMMARY:Trivia Tuesday (GT/FR/Boro)
DESCRIPTION:Trivia starting at 7pm
URL:https://neighborsnashville.com/event/trivia-tuesday-gt-fr-gulch-10/2025-09-30/
LOCATION:Neighbors Franklin\, 4031 Aspen Grove Drive\, Suite 162\, Franklin\, TN\, 37067\, United States
CATEGORIES:Trivia
ATTACH;FMTTYPE=image/jpeg:https://neighborsnashville.com/wp-content/uploads/Trivia-scaled.jpg
END:VEVENT
BEGIN:VEVENT
DTSTART;TZID=America/Chicago:20250930T190000
DTEND;TZID=America/Chicago:20250930T220000
DTSTAMP:20260419T131405
CREATED:20241015T182945Z
LAST-MODIFIED:20251218T181938Z
UID:10008187-1759258800-1759269600@neighborsnashville.com
SUMMARY:Ballad Bingo (Sylvan P\, Gulch)
DESCRIPTION:Bingo Nights Starting at 7pm
URL:https://neighborsnashville.com/event/bingo-night-germantown-7/2025-09-30/
LOCATION:Neighbors Gulch\, 610 12th Ave. South\, Nashville\, TN\, 37203\, United States
CATEGORIES:Bingo
ATTACH;FMTTYPE=image/jpeg:https://neighborsnashville.com/wp-content/uploads/Trivia-scaled.jpg
END:VEVENT
BEGIN:VEVENT
DTSTART;TZID=America/Chicago:20251001T190000
DTEND;TZID=America/Chicago:20251001T210000
DTSTAMP:20260419T131405
CREATED:20241010T002342Z
LAST-MODIFIED:20251218T183804Z
UID:10000163-1759345200-1759352400@neighborsnashville.com
SUMMARY:Trivia Wednesday (SYLVAN PARK/GULCH)
DESCRIPTION:Trivia starting at 7pm
URL:https://neighborsnashville.com/event/trivia-wednesday-sylvan-park-11/2025-10-01/
LOCATION:Neighbors Sylvan Park\, 4425 Murphy Rd\, Nashville\, TN\, 37209\, United States
CATEGORIES:Trivia
ATTACH;FMTTYPE=image/jpeg:https://neighborsnashville.com/wp-content/uploads/Trivia-scaled.jpg
END:VEVENT
BEGIN:VEVENT
DTSTART;TZID=America/Chicago:20251001T190000
DTEND;TZID=America/Chicago:20251001T220000
DTSTAMP:20260419T131405
CREATED:20241015T180740Z
LAST-MODIFIED:20251105T232302Z
UID:10000683-1759345200-1759356000@neighborsnashville.com
SUMMARY:Wine Down Wednesday (All Locations)
DESCRIPTION:Wine down Wednesday: 1/2 price on all bottles all day. \nStarting at 7pm
URL:https://neighborsnashville.com/event/wine-down-wednesday-fr-gulch-12/2025-10-01/
LOCATION:Neighbors Franklin\, 4031 Aspen Grove Drive\, Suite 162\, Franklin\, TN\, 37067\, United States
CATEGORIES:Wine Down Wednesday
ATTACH;FMTTYPE=image/jpeg:https://neighborsnashville.com/wp-content/uploads/Trivia-scaled.jpg
END:VEVENT
BEGIN:VEVENT
DTSTART;TZID=America/Chicago:20251001T190000
DTEND;TZID=America/Chicago:20251001T220000
DTSTAMP:20260419T131405
CREATED:20241015T183037Z
LAST-MODIFIED:20251218T181728Z
UID:10007873-1759345200-1759356000@neighborsnashville.com
SUMMARY:Ballad Bingo (Germantown\, Franklin\, Boro)
DESCRIPTION:Bingo Nights Starting at 7pm
URL:https://neighborsnashville.com/event/bingo-night-germantown-8/2025-10-01/
LOCATION:Neighbors Franklin\, 4031 Aspen Grove Drive\, Suite 162\, Franklin\, TN\, 37067\, United States
CATEGORIES:Bingo
ATTACH;FMTTYPE=image/jpeg:https://neighborsnashville.com/wp-content/uploads/Trivia-scaled.jpg
END:VEVENT
BEGIN:VEVENT
DTSTART;TZID=America/Chicago:20251003T200000
DTEND;TZID=America/Chicago:20251003T235900
DTSTAMP:20260419T131405
CREATED:20250107T203432Z
LAST-MODIFIED:20251105T233303Z
UID:10001206-1759521600-1759535940@neighborsnashville.com
SUMMARY:Live DJ FRIDAYS (Germantown)
DESCRIPTION:Friday Night DJ LIVE!! \nEvery 2nd & 4th Friday 7-11pm.
URL:https://neighborsnashville.com/event/live-dj-fridays-germantown/2025-10-03/
LOCATION:Neighbors Germantown\, 313 Jefferson Street\, Nashville\, TN\, 37208\, United States
CATEGORIES:Music
ATTACH;FMTTYPE=image/jpeg:https://neighborsnashville.com/wp-content/uploads/Germantown-DJ.jpg
END:VEVENT
BEGIN:VEVENT
DTSTART;TZID=America/Chicago:20251007T190000
DTEND;TZID=America/Chicago:20251007T210000
DTSTAMP:20260419T131405
CREATED:20241010T001758Z
LAST-MODIFIED:20251218T184106Z
UID:10000424-1759863600-1759870800@neighborsnashville.com
SUMMARY:Trivia Tuesday (GT/FR/Boro)
DESCRIPTION:Trivia starting at 7pm
URL:https://neighborsnashville.com/event/trivia-tuesday-gt-fr-gulch-10/2025-10-07/
LOCATION:Neighbors Franklin\, 4031 Aspen Grove Drive\, Suite 162\, Franklin\, TN\, 37067\, United States
CATEGORIES:Trivia
ATTACH;FMTTYPE=image/jpeg:https://neighborsnashville.com/wp-content/uploads/Trivia-scaled.jpg
END:VEVENT
BEGIN:VEVENT
DTSTART;TZID=America/Chicago:20251007T190000
DTEND;TZID=America/Chicago:20251007T220000
DTSTAMP:20260419T131405
CREATED:20241015T182945Z
LAST-MODIFIED:20251218T181938Z
UID:10008188-1759863600-1759874400@neighborsnashville.com
SUMMARY:Ballad Bingo (Sylvan P\, Gulch)
DESCRIPTION:Bingo Nights Starting at 7pm
URL:https://neighborsnashville.com/event/bingo-night-germantown-7/2025-10-07/
LOCATION:Neighbors Gulch\, 610 12th Ave. South\, Nashville\, TN\, 37203\, United States
CATEGORIES:Bingo
ATTACH;FMTTYPE=image/jpeg:https://neighborsnashville.com/wp-content/uploads/Trivia-scaled.jpg
END:VEVENT
BEGIN:VEVENT
DTSTART;TZID=America/Chicago:20251008T190000
DTEND;TZID=America/Chicago:20251008T210000
DTSTAMP:20260419T131405
CREATED:20241010T002342Z
LAST-MODIFIED:20251218T183804Z
UID:10000164-1759950000-1759957200@neighborsnashville.com
SUMMARY:Trivia Wednesday (SYLVAN PARK/GULCH)
DESCRIPTION:Trivia starting at 7pm
URL:https://neighborsnashville.com/event/trivia-wednesday-sylvan-park-11/2025-10-08/
LOCATION:Neighbors Sylvan Park\, 4425 Murphy Rd\, Nashville\, TN\, 37209\, United States
CATEGORIES:Trivia
ATTACH;FMTTYPE=image/jpeg:https://neighborsnashville.com/wp-content/uploads/Trivia-scaled.jpg
END:VEVENT
BEGIN:VEVENT
DTSTART;TZID=America/Chicago:20251008T190000
DTEND;TZID=America/Chicago:20251008T220000
DTSTAMP:20260419T131405
CREATED:20241015T180740Z
LAST-MODIFIED:20251105T232302Z
UID:10000684-1759950000-1759960800@neighborsnashville.com
SUMMARY:Wine Down Wednesday (All Locations)
DESCRIPTION:Wine down Wednesday: 1/2 price on all bottles all day. \nStarting at 7pm
URL:https://neighborsnashville.com/event/wine-down-wednesday-fr-gulch-12/2025-10-08/
LOCATION:Neighbors Franklin\, 4031 Aspen Grove Drive\, Suite 162\, Franklin\, TN\, 37067\, United States
CATEGORIES:Wine Down Wednesday
ATTACH;FMTTYPE=image/jpeg:https://neighborsnashville.com/wp-content/uploads/Trivia-scaled.jpg
END:VEVENT
BEGIN:VEVENT
DTSTART;TZID=America/Chicago:20251008T190000
DTEND;TZID=America/Chicago:20251008T220000
DTSTAMP:20260419T131405
CREATED:20241015T183037Z
LAST-MODIFIED:20251218T181728Z
UID:10007874-1759950000-1759960800@neighborsnashville.com
SUMMARY:Ballad Bingo (Germantown\, Franklin\, Boro)
DESCRIPTION:Bingo Nights Starting at 7pm
URL:https://neighborsnashville.com/event/bingo-night-germantown-8/2025-10-08/
LOCATION:Neighbors Franklin\, 4031 Aspen Grove Drive\, Suite 162\, Franklin\, TN\, 37067\, United States
CATEGORIES:Bingo
ATTACH;FMTTYPE=image/jpeg:https://neighborsnashville.com/wp-content/uploads/Trivia-scaled.jpg
END:VEVENT
BEGIN:VEVENT
DTSTART;TZID=America/Chicago:20251010T200000
DTEND;TZID=America/Chicago:20251010T235900
DTSTAMP:20260419T131405
CREATED:20250107T203820Z
LAST-MODIFIED:20251105T233132Z
UID:10001840-1760126400-1760140740@neighborsnashville.com
SUMMARY:Live DJ FRIDAYS (Gulch)
DESCRIPTION:Friday Night DJ LIVE!! \nEvery 1st & 3rd Friday 7-11pm.
URL:https://neighborsnashville.com/event/live-dj-fridays-gulch-2/2025-10-10/
LOCATION:Neighbors Gulch\, 610 12th Ave. South\, Nashville\, TN\, 37203\, United States
CATEGORIES:Music
ATTACH;FMTTYPE=image/jpeg:https://neighborsnashville.com/wp-content/uploads/FridayMusic-scaled.jpg
END:VEVENT
END:VCALENDAR