BEGIN:VCALENDAR
VERSION:2.0
PRODID:-//Neighbors Nashville - ECPv6.13.2.1//NONSGML v1.0//EN
CALSCALE:GREGORIAN
METHOD:PUBLISH
X-WR-CALNAME:Neighbors Nashville
X-ORIGINAL-URL:https://neighborsnashville.com
X-WR-CALDESC:Events for Neighbors Nashville
REFRESH-INTERVAL;VALUE=DURATION:PT1H
X-Robots-Tag:noindex
X-PUBLISHED-TTL:PT1H
BEGIN:VTIMEZONE
TZID:America/Chicago
BEGIN:DAYLIGHT
TZOFFSETFROM:-0600
TZOFFSETTO:-0500
TZNAME:CDT
DTSTART:20260308T080000
END:DAYLIGHT
BEGIN:STANDARD
TZOFFSETFROM:-0500
TZOFFSETTO:-0600
TZNAME:CST
DTSTART:20261101T070000
END:STANDARD
END:VTIMEZONE
BEGIN:VEVENT
DTSTART;TZID=America/Chicago:20260417T200000
DTEND;TZID=America/Chicago:20260417T235900
DTSTAMP:20260419T093430
CREATED:20250107T203432Z
LAST-MODIFIED:20251105T233303Z
UID:10001234-1776456000-1776470340@neighborsnashville.com
SUMMARY:Live DJ FRIDAYS (Germantown)
DESCRIPTION:Friday Night DJ LIVE!! \nEvery 2nd & 4th Friday 7-11pm.
URL:https://neighborsnashville.com/event/live-dj-fridays-germantown/2026-04-17/
LOCATION:Neighbors Germantown\, 313 Jefferson Street\, Nashville\, TN\, 37208\, United States
CATEGORIES:Music
ATTACH;FMTTYPE=image/jpeg:https://neighborsnashville.com/wp-content/uploads/Germantown-DJ.jpg
END:VEVENT
END:VCALENDAR