BEGIN:VCALENDAR
VERSION:2.0
PRODID:-//Neighbors Nashville - ECPv6.13.2.1//NONSGML v1.0//EN
CALSCALE:GREGORIAN
METHOD:PUBLISH
X-WR-CALNAME:Neighbors Nashville
X-ORIGINAL-URL:https://neighborsnashville.com
X-WR-CALDESC:Events for Neighbors Nashville
REFRESH-INTERVAL;VALUE=DURATION:PT1H
X-Robots-Tag:noindex
X-PUBLISHED-TTL:PT1H
BEGIN:VTIMEZONE
TZID:America/Chicago
BEGIN:DAYLIGHT
TZOFFSETFROM:-0600
TZOFFSETTO:-0500
TZNAME:CDT
DTSTART:20260308T080000
END:DAYLIGHT
BEGIN:STANDARD
TZOFFSETFROM:-0500
TZOFFSETTO:-0600
TZNAME:CST
DTSTART:20261101T070000
END:STANDARD
END:VTIMEZONE
BEGIN:VEVENT
DTSTART;TZID=America/Chicago:20260415T190000
DTEND;TZID=America/Chicago:20260415T210000
DTSTAMP:20260419T112837
CREATED:20241010T002342Z
LAST-MODIFIED:20251218T183804Z
UID:10000191-1776279600-1776286800@neighborsnashville.com
SUMMARY:Trivia Wednesday (SYLVAN PARK/GULCH)
DESCRIPTION:Trivia starting at 7pm
URL:https://neighborsnashville.com/event/trivia-wednesday-sylvan-park-11/2026-04-15/
LOCATION:Neighbors Sylvan Park\, 4425 Murphy Rd\, Nashville\, TN\, 37209\, United States
CATEGORIES:Trivia
ATTACH;FMTTYPE=image/jpeg:https://neighborsnashville.com/wp-content/uploads/Trivia-scaled.jpg
END:VEVENT
BEGIN:VEVENT
DTSTART;TZID=America/Chicago:20260415T190000
DTEND;TZID=America/Chicago:20260415T220000
DTSTAMP:20260419T112837
CREATED:20241015T180740Z
LAST-MODIFIED:20251105T232302Z
UID:10000711-1776279600-1776290400@neighborsnashville.com
SUMMARY:Wine Down Wednesday (All Locations)
DESCRIPTION:Wine down Wednesday: 1/2 price on all bottles all day. \nStarting at 7pm
URL:https://neighborsnashville.com/event/wine-down-wednesday-fr-gulch-12/2026-04-15/
LOCATION:Neighbors Franklin\, 4031 Aspen Grove Drive\, Suite 162\, Franklin\, TN\, 37067\, United States
CATEGORIES:Wine Down Wednesday
ATTACH;FMTTYPE=image/jpeg:https://neighborsnashville.com/wp-content/uploads/Trivia-scaled.jpg
END:VEVENT
BEGIN:VEVENT
DTSTART;TZID=America/Chicago:20260415T190000
DTEND;TZID=America/Chicago:20260415T220000
DTSTAMP:20260419T112837
CREATED:20241015T183037Z
LAST-MODIFIED:20251218T181728Z
UID:10007901-1776279600-1776290400@neighborsnashville.com
SUMMARY:Ballad Bingo (Germantown\, Franklin\, Boro)
DESCRIPTION:Bingo Nights Starting at 7pm
URL:https://neighborsnashville.com/event/bingo-night-germantown-8/2026-04-15/
LOCATION:Neighbors Franklin\, 4031 Aspen Grove Drive\, Suite 162\, Franklin\, TN\, 37067\, United States
CATEGORIES:Bingo
ATTACH;FMTTYPE=image/jpeg:https://neighborsnashville.com/wp-content/uploads/Trivia-scaled.jpg
END:VEVENT
END:VCALENDAR